DatasetHeader Begin
	Version	= "7.1"
	Name	= "MAD6INCH2010Mosaic.ers"
	LastUpdated	= Fri Jul 30 19:20:43 GMT 2010
	DataFile	= "MAD6INCH2010Mosaic.ecw"
	DataSetType	= Translated
	DataType	= Raster
	ByteOrder	= LSBFirst
	CoordinateSpace Begin
		Datum	= "WGS84"
		Projection	= "LOCAL"
		CoordinateType	= EN
		Rotation	= 0:0:0.0
	CoordinateSpace End
	RasterInfo Begin
		CellType	= Unsigned8BitInteger
		CellInfo Begin
			Xdimension	= 0.5
			Ydimension	= 0.5
		CellInfo End
		NrOfLines	= 307642
		NrOfCellsPerLine	= 257355
		RegistrationCoord Begin
			Eastings	= 1642788
			Northings	= 771323.5
		RegistrationCoord End
		NrOfBands	= 3
		BandId Begin
			Value	= "Red"
		BandId End
		BandId Begin
			Value	= "Green"
		BandId End
		BandId Begin
			Value	= "Blue"
		BandId End
		RegionInfo Begin
			Type	= Polygon
			RegionName	= "All"
			SubRegion	= { 0 0 0 307642 257355 307642 257355 0 }
		RegionInfo End
	RasterInfo End
DatasetHeader End
