Workbook

Sheet MADISON COUNTY SUMMARY
A2: SOURCE OF RECEIPTS | B2: TOTALS
A3: TIFs
A4: Collected | B4: =SUM(N1:N47) -> 799133.74
A5: Less Made-Whole Payments | B5: =SUM(O1:O47) -> 379861.92
B6: =SUM(P1:P47) -> 0
B7: =SUM(Q1:Q47) -> 0
B8: =SUM(R1:R47) -> 0
B9: =SUM(S1:S47) -> 0
B10: =SUM(T1:T47) -> 0
B11: =SUM(U1:U47) -> 0
B12: =SUM(V1:V47) -> 0
B13: =SUM(W1:W47) -> 0
B14: =SUM(X1:X47) -> 0
B15: =SUM(Y1:Y47) -> 0
A16: TOTAL COLLECTED | B16: =SUM(Z1:Z47) -> 419271.82
B17: =SUM(AA1:AA47) -> 0
A18: REIMBURSEMENTS | B18: =SUM(AB1:AB47) -> 0
A19: Non-Business Credit | B19: =SUM(AC1:AC47) -> 0
A20: Non-Business Credit Delinquent | B20: =SUM(AD1:AD47) -> 0
A21: Owner-Occupancy Credit | B21: =SUM(AE1:AE47) -> 0
A22: Owner-Occupancy Credit Delinquent | B22: =SUM(AF1:AF47) -> 0
A23: Homestead | B23: =SUM(AG1:AG47) -> 0
A24: Homestead Delinquent | B24: =SUM(AH1:AH47) -> 0
A25: TOTAL REIMBURSEMENTS | B25: =SUM(AI1:AI47) -> 0
A26: TOTAL DISTRIBUTION | B26: =SUM(AJ1:AJ47) -> 419271.82
A28: DEDUCTIONS
A29: Aud. And Treas. Fees | B29: =SUM(AM1:AM47) -> 7330.81
A30: DETAC Fee | B30: =SUM(AN1:AN47) -> 0
A31: Delinquent Advertising | B31: =SUM(AO1:AO47) -> 0
A32: Tax Collector Salary | B32: =SUM(AP1:AP47) -> 0
B33: =SUM(AQ1:AQ47) -> 0
B34: =SUM(AR1:AR47) -> 0
B35: =SUM(AS1:AS47) -> 0
B36: =SUM(AT1:AT47) -> 0
B37: =SUM(AU1:AU47) -> 0
B38: =SUM(AV1:AV47) -> 0
B39: =SUM(AW1:AW47) -> 0
A40: TOTAL DEDUCTIONS | B40: =SUM(AX1:AX47) -> 7330.81
A42: BALANCES | B42: =SUM(AZ1:AZ47) -> 411941.01
A43: Less Refunds | B43: =SUM(BA1:BA47) -> 0 | N43: ='JEFFERSON CORP'!AA4 -> 707120.67 | O43: ='JEFFERSON CORP'!AA5 -> 379861.92 | P43: ='JEFFERSON CORP'!AA6 -> 0 | Q43: ='JEFFERSON CORP'!AA7 -> 0 | R43: ='JEFFERSON CORP'!AA8 -> 0 | S43: ='JEFFERSON CORP'!AA9 -> 0 | T43: ='JEFFERSON CORP'!AA10 -> 0 | U43: ='JEFFERSON CORP'!AA11 -> 0 | V43: ='JEFFERSON CORP'!AA12 -> 0 | W43: ='JEFFERSON CORP'!AA13 -> 0 | X43: ='JEFFERSON CORP'!AA14 -> 0 | Y43: ='JEFFERSON CORP'!AA15 -> 0 | Z43: ='JEFFERSON CORP'!AA16 -> 327258.75 | AA43: ='JEFFERSON CORP'!AA17 -> 0 | AB43: ='JEFFERSON CORP'!AA18 -> 0 | AC43: ='JEFFERSON CORP'!AA19 -> 0 | AD43: ='JEFFERSON CORP'!AA20 -> 0 | AE43: ='JEFFERSON CORP'!AA21 -> 0 | AF43: ='JEFFERSON CORP'!AA22 -> 0 | AG43: ='JEFFERSON CORP'!AA23 -> 0 | AH43: ='JEFFERSON CORP'!AA24 -> 0 | AI43: ='JEFFERSON CORP'!AA25 -> 0 | AJ43: ='JEFFERSON CORP'!AA26 -> 327258.75 | AM43: ='JEFFERSON CORP'!AA29 -> 5721.97 | AN43: ='JEFFERSON CORP'!AA30 -> 0 | AO43: ='JEFFERSON CORP'!AA31 -> 0 | AP43: ='JEFFERSON CORP'!AA32 -> 0 | AQ43: ='JEFFERSON CORP'!AA33 -> 0 | AR43: ='JEFFERSON CORP'!AA34 -> 0 | AS43: ='JEFFERSON CORP'!AA35 -> 0 | AT43: ='JEFFERSON CORP'!AA36 -> 0 | AU43: ='JEFFERSON CORP'!AA37 -> 0 | AV43: ='JEFFERSON CORP'!AA38 -> 0 | AW43: ='JEFFERSON CORP'!AA39 -> 0 | AX43: ='JEFFERSON CORP'!AA40 -> 5721.97 | AZ43: ='JEFFERSON CORP'!AA42 -> 321536.78 | BA43: ='JEFFERSON CORP'!AA43 -> 0 | BB43: ='JEFFERSON CORP'!AA44 -> 321536.78
...

Sheet JEFFERSON CORP
A2: SOURCE OF RECEIPTS | B2: JEFFERSON INDUSTRIES G-TEKT TIF | C2: W JEFF DUKE TIF (HOME DEPOT) | D2: W JEFF DUKE TIF (STAG AMAZON) | E2: W JEFF DUKE TIF (GRANITE) | F2: W JEFF DUKE TIF (STAG AMAZON ROUND ABOUT) | G2: W JEFF DUKE TIF (GRANITE 15 MARS) | H2: W JEFF DUKE TIF (GRANITE 100 REST HARDWARE) | I2: W JEFF DUKE TIF (GRANITE 10 ACE) | J2: W JEFF DUKE TIF (GRANITE 115 TORRID) | K2: W JEFF DUKE TIF (EXETER KELLOGG) | L2: SFG TIF (JEFFERSON LSD PIZZUTI) | M2: SFG TIF (LONDON LSD-PIZZUTI) | N2: MTB SEALY TIF (FEDEX) | O2: TARGET TIF | P2: MEDLINE TIF (MRE) | Q2: MEDLINE TIF (POOL 2 JOANN) | R2: MEDLINE TIF (POOL 3 MOEN) | S2: W JEFF DUKE TIF (NLP-HILLWOOD) | T2: W JEFF DUKE TIF (PREYLOCK AMAZON EXT) | U2: W JEFF PLUMBING TIF | V2: AMPLIFY BIO TIF | W2: COLUMBUS LOGISITICS PARK WEST I TIF | X2: C5 GATEWAY 3 LLC TIF | Y2: COMET PROCESSING TIF (MICHAEL FOODS) | Z2: BATTELLE MEMORIAL INSTITUTE TIF | AA2: TOTALS
A3: TIFs
A4: Collected | B4: 12297.88 | C4: 29583.15 | D4: 0 | E4: 0 | F4: 0 | G4: 0 | H4: 259043.07 | I4: 0 | J4: 0 | K4: 0 | L4: 13079.01 | M4: 12252.11 | N4: 0 | O4: 26934.13 | P4: 0 | Q4: 0 | R4: 0 | S4: 11504.47 | T4: 31396.2 | U4: 3914.53 | V4: 252834.65 | W4: 1937.25 | X4: 0 | Y4: 12277.35 | Z4: 40066.87 | AA4: =SUM(B4:Z4) -> 707120.67
A5: Less Made-Whole Payments | B5: 6401.08 | C5: 15398.1 | D5: 0 | E5: 0 | F5: 0 | G5: 0 | H5: 134832.72 | I5: 0 | J5: 0 | K5: 0 | L5: 7237 | M5: 6657.03 | N5: 0 | O5: 14903.47 | P5: 0 | Q5: 0 | R5: 0 | S5: 5988.11 | T5: 16341.8 | U5: 2166 | V5: 139901.05 | W5: 1071.93 | X5: 0 | Y5: 6793.43 | Z5: 22170.2 | AA5: =SUM(B5:Z5) -> 379861.92
AA6: =SUM(B6:Z6) -> 0
AA7: =SUM(B7:Z7) -> 0
AA8: =SUM(B8:Z8) -> 0
AA9: =SUM(B9:Z9) -> 0
AA10: =SUM(B10:Z10) -> 0
AA11: =SUM(B11:Z11) -> 0
AA12: =SUM(B12:Z12) -> 0
AA13: =SUM(B13:Z13) -> 0
AA14: =SUM(B14:Z14) -> 0
AA15: =SUM(B15:Z15) -> 0
A16: TOTAL COLLECTED | B16: =B4 - B5 + SUM(B6:B15) -> 5896.8 | C16: =C4 - C5 + SUM(C6:C15) -> 14185.05 | D16: =D4 - D5 + SUM(D6:D15) -> 0 | E16: =E4 - E5 + SUM(E6:E15) -> 0 | F16: =F4 - F5 + SUM(F6:F15) -> 0 | G16: =G4 - G5 + SUM(G6:G15) -> 0 | H16: =H4 - H5 + SUM(H6:H15) -> 124210.35 | I16: =I4 - I5 + SUM(I6:I15) -> 0 | ... Z16: =Z4 - Z5 + SUM(Z6:Z15) -> 17896.67 | AA16: =SUM(B16:Z16) -> 327258.75
AA17: =SUM(B17:Z17) -> 0
A18: REIMBURSEMENTS | AA18: =SUM(B18:Z18) -> 0
A19: Non-Business Credit | B19: 0 | C19: 0 | D19: 0 | E19: 0 | F19: 0 | G19: 0 | H19: 0 | I19: 0 | J19: 0 | K19: 0 | L19: 0 | M19: 0 | N19: 0 | O19: 0 | P19: 0 | Q19: 0 | R19: 0 | S19: 0 | T19: 0 | U19: 0 | V19: 0 | W19: 0 | X19: 0 | Y19: 0 | Z19: 0 | AA19: =SUM(B19:Z19) -> 0
A20: Non-Business Credit Delinquent | B20: 0 | C20: 0 | D20: 0 | E20: 0 | F20: 0 | G20: 0 | H20: 0 | I20: 0 | J20: 0 | K20: 0 | L20: 0 | M20: 0 | N20: 0 | O20: 0 | P20: 0 | Q20: 0 | R20: 0 | S20: 0 | T20: 0 | U20: 0 | V20: 0 | W20: 0 | X20: 0 | Y20: 0 | Z20: 0 | AA20: =SUM(B20:Z20) -> 0
A21: Owner-Occupancy Credit | B21: 0 | C21: 0 | D21: 0 | E21: 0 | F21: 0 | G21: 0 | H21: 0 | I21: 0 | J21: 0 | K21: 0 | L21: 0 | M21: 0 | N21: 0 | O21: 0 | P21: 0 | Q21: 0 | R21: 0 | S21: 0 | T21: 0 | U21: 0 | V21: 0 | W21: 0 | X21: 0 | Y21: 0 | Z21: 0 | AA21: =SUM(B21:Z21) -> 0
A22: Owner-Occupancy Credit Delinquent | B22: 0 | C22: 0 | D22: 0 | E22: 0 | F22: 0 | G22: 0 | H22: 0 | I22: 0 | J22: 0 | K22: 0 | L22: 0 | M22: 0 | N22: 0 | O22: 0 | P22: 0 | Q22: 0 | R22: 0 | S22: 0 | T22: 0 | U22: 0 | V22: 0 | W22: 0 | X22: 0 | Y22: 0 | Z22: 0 | AA22: =SUM(B22:Z22) -> 0
A23: Homestead | B23: 0 | C23: 0 | D23: 0 | E23: 0 | F23: 0 | G23: 0 | H23: 0 | I23: 0 | J23: 0 | K23: 0 | L23: 0 | M23: 0 | N23: 0 | O23: 0 | P23: 0 | Q23: 0 | R23: 0 | S23: 0 | T23: 0 | U23: 0 | V23: 0 | W23: 0 | X23: 0 | Y23: 0 | Z23: 0 | AA23: =SUM(B23:Z23) -> 0
A24: Homestead Delinquent | B24: 0 | C24: 0 | D24: 0 | E24: 0 | F24: 0 | G24: 0 | H24: 0 | I24: 0 | J24: 0 | K24: 0 | L24: 0 | M24: 0 | N24: 0 | O24: 0 | P24: 0 | Q24: 0 | R24: 0 | S24: 0 | T24: 0 | U24: 0 | V24: 0 | W24: 0 | X24: 0 | Y24: 0 | Z24: 0 | AA24: =SUM(B24:Z24) -> 0
A25: TOTAL REIMBURSEMENTS | B25: =SUM(B19:B24) -> 0 | C25: =SUM(C19:C24) -> 0 | D25: =SUM(D19:D24) -> 0 | E25: =SUM(E19:E24) -> 0 | F25: =SUM(F19:F24) -> 0 | G25: =SUM(G19:G24) -> 0 | H25: =SUM(H19:H24) -> 0 | I25: =SUM(I19:I24) -> 0 | ... Z25: =SUM(Z19:Z24) -> 0 | AA25: =SUM(B25:Z25) -> 0
A26: TOTAL DISTRIBUTION | B26: =B16 - B25 -> 5896.8 | C26: =C16 - C25 -> 14185.05 | D26: =D16 - D25 -> 0 | E26: =E16 - E25 -> 0 | F26: =F16 - F25 -> 0 | G26: =G16 - G25 -> 0 | H26: =H16 - H25 -> 124210.35 | I26: =I16 - I25 -> 0 | ... Z26: =Z16 - Z25 -> 17896.67 | AA26: =SUM(B26:Z26) -> 327258.75
A28: DEDUCTIONS
A29: Aud. And Treas. Fees | B29: 103.13 | C29: 247.99 | D29: 0 | E29: 0 | F29: 0 | G29: 0 | H29: 2171.77 | I29: 0 | J29: 0 | K29: 0 | L29: 102.15 | M29: 97.83 | N29: 0 | O29: 210.31 | P29: 0 | Q29: 0 | R29: 0 | S29: 96.48 | T29: 263.25 | U29: 30.55 | V29: 1974.64 | W29: 15.09 | X29: 0 | Y29: 95.87 | Z29: 312.91 | AA29: =SUM(B29:Z29) -> 5721.97
A30: DETAC Fee | B30: 0 | C30: 0 | D30: 0 | E30: 0 | F30: 0 | G30: 0 | H30: 0 | I30: 0 | J30: 0 | K30: 0 | L30: 0 | M30: 0 | N30: 0 | O30: 0 | P30: 0 | Q30: 0 | R30: 0 | S30: 0 | T30: 0 | U30: 0 | V30: 0 | W30: 0 | X30: 0 | Y30: 0 | Z30: 0 | AA30: =SUM(B30:Z30) -> 0
A31: Delinquent Advertising | B31: 0 | C31: 0 | D31: 0 | E31: 0 | F31: 0 | G31: 0 | H31: 0 | I31: 0 | J31: 0 | K31: 0 | L31: 0 | M31: 0 | N31: 0 | O31: 0 | P31: 0 | Q31: 0 | R31: 0 | S31: 0 | T31: 0 | U31: 0 | V31: 0 | W31: 0 | X31: 0 | Y31: 0 | Z31: 0 | AA31: =SUM(B31:Z31) -> 0
A32: Tax Collector Salary | B32: 0 | C32: 0 | D32: 0 | E32: 0 | F32: 0 | G32: 0 | H32: 0 | I32: 0 | J32: 0 | K32: 0 | L32: 0 | M32: 0 | N32: 0 | O32: 0 | P32: 0 | Q32: 0 | R32: 0 | S32: 0 | T32: 0 | U32: 0 | V32: 0 | W32: 0 | X32: 0 | Y32: 0 | Z32: 0 | AA32: =SUM(B32:Z32) -> 0
AA33: =SUM(B33:Z33) -> 0
AA34: =SUM(B34:Z34) -> 0
AA35: =SUM(B35:Z35) -> 0
AA36: =SUM(B36:Z36) -> 0
AA37: =SUM(B37:Z37) -> 0
AA38: =SUM(B38:Z38) -> 0
AA39: =SUM(B39:Z39) -> 0
A40: TOTAL DEDUCTIONS | B40: =SUM(B29:B39) -> 103.13 | C40: =SUM(C29:C39) -> 247.99 | D40: =SUM(D29:D39) -> 0 | E40: =SUM(E29:E39) -> 0 | F40: =SUM(F29:F39) -> 0 | G40: =SUM(G29:G39) -> 0 | H40: =SUM(H29:H39) -> 2171.77 | I40: =SUM(I29:I39) -> 0 | ... Z40: =SUM(Z29:Z39) -> 312.91 | AA40: =SUM(B40:Z40) -> 5721.97
A42: BALANCES | B42: =B26-B40 -> 5793.67 | C42: =C26-C40 -> 13937.06 | D42: =D26-D40 -> 0 | E42: =E26-E40 -> 0 | F42: =F26-F40 -> 0 | G42: =G26-G40 -> 0 | H42: =H26-H40 -> 122038.58 | I42: =I26-I40 -> 0 | ... Z42: =Z26-Z40 -> 17583.76 | AA42: =SUM(B42:Z42) -> 321536.78
A43: Less Refunds | B43: 0 | C43: 0 | D43: 0 | E43: 0 | F43: 0 | G43: 0 | H43: 0 | I43: 0 | J43: 0 | K43: 0 | L43: 0 | M43: 0 | N43: 0 | O43: 0 | P43: 0 | Q43: 0 | R43: 0 | S43: 0 | T43: 0 | U43: 0 | V43: 0 | W43: 0 | X43: 0 | Y43: 0 | Z43: 0 | AA43: =SUM(B43:Z43) -> 0
...

Sheet LONDON CITY
A2: SOURCE OF RECEIPTS | B2: MID-OHIO HOLDINGS LLC TIF ORD 129-06 | C2: STANLEY ELECTIC TIF | D2: KENY BLVD TIF (NATL RETAIL BOB EVANS) | E2: KENY BLVD TIF (TOLSON SHERWIN WILLIAMS) | F2: KENY BLVD TIF (MTB EAGLETON) | G2: KENY BLVD TIF (OH FAMILY SPECIALIST) | H2: KENY BLVD TIF (B&C DQ) | I2: KENY BLVD TIF (WAL-MART) | J2: KENY BLVD TIF (RJ RE LONDON URGENT CARE) | K2: MAIN STREET LONDON COLLECTIVE LTD ORD 143-23 (31-01812.000) | L2: KENY BLVD TIF (MH LONDON- PRIMARY PHYSICIANS) | M2: TOTALS
A3: TIFs
A4: Collected | B4: 7345.02 | C4: 16177.31 | D4: 4951.43 | E4: 2018.84 | F4: 14857.68 | G4: 4509.51 | H4: 2092.33 | I4: 37626.13 | J4: 0 | K4: 0 | L4: 2434.82 | M4: =SUM(B4:L4) -> 92013.07
A5: Less Made-Whole Payments | B5: 0 | C5: 0 | D5: 0 | E5: 0 | F5: 0 | G5: 0 | H5: 0 | I5: 0 | J5: 0 | K5: 0 | L5: 0 | M5: =SUM(B5:L5) -> 0
M6: =SUM(B6:L6) -> 0
M7: =SUM(B7:L7) -> 0
M8: =SUM(B8:L8) -> 0
M9: =SUM(B9:L9) -> 0
M10: =SUM(B10:L10) -> 0
M11: =SUM(B11:L11) -> 0
M12: =SUM(B12:L12) -> 0
M13: =SUM(B13:L13) -> 0
M14: =SUM(B14:L14) -> 0
M15: =SUM(B15:L15) -> 0
A16: TOTAL COLLECTED | B16: =B4 - B5 + SUM(B6:B15) -> 7345.02 | C16: =C4 - C5 + SUM(C6:C15) -> 16177.31 | D16: =D4 - D5 + SUM(D6:D15) -> 4951.43 | E16: =E4 - E5 + SUM(E6:E15) -> 2018.84 | F16: =F4 - F5 + SUM(F6:F15) -> 14857.68 | G16: =G4 - G5 + SUM(G6:G15) -> 4509.51 | H16: =H4 - H5 + SUM(H6:H15) -> 2092.33 | I16: =I4 - I5 + SUM(I6:I15) -> 37626.13 | ... L16: =L4 - L5 + SUM(L6:L15) -> 2434.82 | M16: =SUM(B16:L16) -> 92013.07
M17: =SUM(B17:L17) -> 0
A18: REIMBURSEMENTS | M18: =SUM(B18:L18) -> 0
A19: Non-Business Credit | B19: 0 | C19: 0 | D19: 0 | E19: 0 | F19: 0 | G19: 0 | H19: 0 | I19: 0 | J19: 0 | K19: 0 | L19: 0 | M19: =SUM(B19:L19) -> 0
A20: Non-Business Credit Delinquent | B20: 0 | C20: 0 | D20: 0 | E20: 0 | F20: 0 | G20: 0 | H20: 0 | I20: 0 | J20: 0 | K20: 0 | L20: 0 | M20: =SUM(B20:L20) -> 0
A21: Owner-Occupancy Credit | B21: 0 | C21: 0 | D21: 0 | E21: 0 | F21: 0 | G21: 0 | H21: 0 | I21: 0 | J21: 0 | K21: 0 | L21: 0 | M21: =SUM(B21:L21) -> 0
A22: Owner-Occupancy Credit Delinquent | B22: 0 | C22: 0 | D22: 0 | E22: 0 | F22: 0 | G22: 0 | H22: 0 | I22: 0 | J22: 0 | K22: 0 | L22: 0 | M22: =SUM(B22:L22) -> 0
A23: Homestead | B23: 0 | C23: 0 | D23: 0 | E23: 0 | F23: 0 | G23: 0 | H23: 0 | I23: 0 | J23: 0 | K23: 0 | L23: 0 | M23: =SUM(B23:L23) -> 0
A24: Homestead Delinquent | B24: 0 | C24: 0 | D24: 0 | E24: 0 | F24: 0 | G24: 0 | H24: 0 | I24: 0 | J24: 0 | K24: 0 | L24: 0 | M24: =SUM(B24:L24) -> 0
A25: TOTAL REIMBURSEMENTS | B25: =SUM(B19:B24) -> 0 | C25: =SUM(C19:C24) -> 0 | D25: =SUM(D19:D24) -> 0 | E25: =SUM(E19:E24) -> 0 | F25: =SUM(F19:F24) -> 0 | G25: =SUM(G19:G24) -> 0 | H25: =SUM(H19:H24) -> 0 | I25: =SUM(I19:I24) -> 0 | ... L25: =SUM(L19:L24) -> 0 | M25: =SUM(B25:L25) -> 0
A26: TOTAL DISTRIBUTION | B26: =B16 - B25 -> 7345.02 | C26: =C16 - C25 -> 16177.31 | D26: =D16 - D25 -> 4951.43 | E26: =E16 - E25 -> 2018.84 | F26: =F16 - F25 -> 14857.68 | G26: =G16 - G25 -> 4509.51 | H26: =H16 - H25 -> 2092.33 | I26: =I16 - I25 -> 37626.13 | ... L26: =L16 - L25 -> 2434.82 | M26: =SUM(B26:L26) -> 92013.07
A28: DEDUCTIONS
A29: Aud. And Treas. Fees | B29: 128.45 | C29: 282.83 | D29: 86.6 | E29: 35.32 | F29: 259.78 | G29: 78.83 | H29: 36.59 | I29: 657.86 | J29: 0 | K29: 0 | L29: 42.58 | M29: =SUM(B29:L29) -> 1608.84
A30: DETAC Fee | B30: 0 | C30: 0 | D30: 0 | E30: 0 | F30: 0 | G30: 0 | H30: 0 | I30: 0 | J30: 0 | K30: 0 | L30: 0 | M30: =SUM(B30:L30) -> 0
A31: Delinquent Advertising | B31: 0 | C31: 0 | D31: 0 | E31: 0 | F31: 0 | G31: 0 | H31: 0 | I31: 0 | J31: 0 | K31: 0 | L31: 0 | M31: =SUM(B31:L31) -> 0
A32: Tax Collector Salary | B32: 0 | C32: 0 | D32: 0 | E32: 0 | F32: 0 | G32: 0 | H32: 0 | I32: 0 | J32: 0 | K32: 0 | L32: 0 | M32: =SUM(B32:L32) -> 0
M33: =SUM(B33:L33) -> 0
M34: =SUM(B34:L34) -> 0
M35: =SUM(B35:L35) -> 0
M36: =SUM(B36:L36) -> 0
M37: =SUM(B37:L37) -> 0
M38: =SUM(B38:L38) -> 0
M39: =SUM(B39:L39) -> 0
A40: TOTAL DEDUCTIONS | B40: =SUM(B29:B39) -> 128.45 | C40: =SUM(C29:C39) -> 282.83 | D40: =SUM(D29:D39) -> 86.6 | E40: =SUM(E29:E39) -> 35.32 | F40: =SUM(F29:F39) -> 259.78 | G40: =SUM(G29:G39) -> 78.83 | H40: =SUM(H29:H39) -> 36.59 | I40: =SUM(I29:I39) -> 657.86 | ... L40: =SUM(L29:L39) -> 42.58 | M40: =SUM(B40:L40) -> 1608.84
A42: BALANCES | B42: =B26-B40 -> 7216.57 | C42: =C26-C40 -> 15894.48 | D42: =D26-D40 -> 4864.83 | E42: =E26-E40 -> 1983.52 | F42: =F26-F40 -> 14597.9 | G42: =G26-G40 -> 4430.68 | H42: =H26-H40 -> 2055.74 | I42: =I26-I40 -> 36968.27 | ... L42: =L26-L40 -> 2392.24 | M42: =SUM(B42:L42) -> 90404.23
A43: Less Refunds | B43: 0 | C43: 0 | D43: 0 | E43: 0 | F43: 0 | G43: 0 | H43: 0 | I43: 0 | J43: 0 | K43: 0 | L43: 0 | M43: =SUM(B43:L43) -> 0
...
