Workbook

Sheet MADISON COUNTY SUMMARY
N1: ='10490-MADISON COUNTY'!C4 -> 1930424.6 | O1: ='10490-MADISON COUNTY'!C5 -> 309742.93 | P1: ='10490-MADISON COUNTY'!C6 -> 262442.57 | Q1: ='10490-MADISON COUNTY'!C7 -> 2502610.1 | R1: ='10490-MADISON COUNTY'!C8 -> 5482.22 | S1: ='10490-MADISON COUNTY'!C9 -> 45529.44 | T1: ='10490-MADISON COUNTY'!C10 -> 2462562.9 | W1: ='10490-MADISON COUNTY'!C13 -> 228623.91 | X1: ='10490-MADISON COUNTY'!C14 -> -5.56 | Y1: ='10490-MADISON COUNTY'!C15 -> 34940.28 | Z1: ='10490-MADISON COUNTY'!C16 -> 0 | AA1: ='10490-MADISON COUNTY'!C17 -> 30266.39 | AB1: ='10490-MADISON COUNTY'!C18 -> 0 | AC1: ='10490-MADISON COUNTY'!C19 -> 293825.02 | AD1: ='10490-MADISON COUNTY'!C20 -> 2168737.9 | AG1: ='10490-MADISON COUNTY'!C23 -> 42637.95 | AH1: ='10490-MADISON COUNTY'!C24 -> 0 | AI1: ='10490-MADISON COUNTY'!C25 -> 0 | AJ1: ='10490-MADISON COUNTY'!C26 -> 0 | AK1: ='10490-MADISON COUNTY'!C27 -> 0 | AL1: ='10490-MADISON COUNTY'!C28 -> 42637.95 | AN1: ='10490-MADISON COUNTY'!C30 -> 2126099.9 | AO1: ='10490-MADISON COUNTY'!C31 -> 450.97 | AP1: ='10490-MADISON COUNTY'!C32 -> 0 | AQ1: ='10490-MADISON COUNTY'!C33 -> 2125648.9 | AT1: ='10490-MADISON COUNTY'!C36 -> 0
A2: SOURCE OF RECEIPTS | B2: TOTALS | N2: ='104901-VETERANS RELIEF'!C4 -> 321750.35 | O2: ='104901-VETERANS RELIEF'!C5 -> 51624.57 | P2: ='104901-VETERANS RELIEF'!C6 -> 43740.37 | Q2: ='104901-VETERANS RELIEF'!C7 -> 417115.29 | R2: ='104901-VETERANS RELIEF'!C8 -> 913.78 | S2: ='104901-VETERANS RELIEF'!C9 -> 7588.29 | T2: ='104901-VETERANS RELIEF'!C10 -> 410440.78 | W2: ='104901-VETERANS RELIEF'!C13 -> 38105.35 | X2: ='104901-VETERANS RELIEF'!C14 -> -0.93 | Y2: ='104901-VETERANS RELIEF'!C15 -> 5823.54 | Z2: ='104901-VETERANS RELIEF'!C16 -> 0 | AA2: ='104901-VETERANS RELIEF'!C17 -> 5044.52 | AB2: ='104901-VETERANS RELIEF'!C18 -> 0 | AC2: ='104901-VETERANS RELIEF'!C19 -> 48972.48 | AD2: ='104901-VETERANS RELIEF'!C20 -> 361468.3 | AG2: ='104901-VETERANS RELIEF'!C23 -> 7106.55 | AH2: ='104901-VETERANS RELIEF'!C24 -> 0 | AI2: ='104901-VETERANS RELIEF'!C25 -> 0 | AJ2: ='104901-VETERANS RELIEF'!C26 -> 0 | AK2: ='104901-VETERANS RELIEF'!C27 -> 0 | AL2: ='104901-VETERANS RELIEF'!C28 -> 7106.55 | AN2: ='104901-VETERANS RELIEF'!C30 -> 354361.75 | AO2: ='104901-VETERANS RELIEF'!C31 -> 75.18 | AP2: ='104901-VETERANS RELIEF'!C32 -> 0 | AQ2: ='104901-VETERANS RELIEF'!C33 -> 354286.57 | AT2: ='104901-VETERANS RELIEF'!C36 -> 0
A3: REAL PROPERTY | N3: ='104902-MAD CO BD OF DEVELOPMENT'!G4 -> 906019.82 | O3: ='104902-MAD CO BD OF DEVELOPMENT'!G5 -> 302346.97 | P3: ='104902-MAD CO BD OF DEVELOPMENT'!G6 -> 349923.58 | Q3: ='104902-MAD CO BD OF DEVELOPMENT'!G7 -> 1558290.4 | R3: ='104902-MAD CO BD OF DEVELOPMENT'!G8 -> -14951.84 | S3: ='104902-MAD CO BD OF DEVELOPMENT'!G9 -> 44442.21 | T3: ='104902-MAD CO BD OF DEVELOPMENT'!G10 -> 1498896.3 | W3: ='104902-MAD CO BD OF DEVELOPMENT'!G13 -> 107280.56 | X3: ='104902-MAD CO BD OF DEVELOPMENT'!G14 -> -2.61 | Y3: ='104902-MAD CO BD OF DEVELOPMENT'!G15 -> 16399.8 | Z3: ='104902-MAD CO BD OF DEVELOPMENT'!G16 -> 0 | AA3: ='104902-MAD CO BD OF DEVELOPMENT'!G17 -> 14224.27 | AB3: ='104902-MAD CO BD OF DEVELOPMENT'!G18 -> 0 | AC3: ='104902-MAD CO BD OF DEVELOPMENT'!G19 -> 137902.02 | AD3: ='104902-MAD CO BD OF DEVELOPMENT'!G20 -> 1360994.3 | AG3: ='104902-MAD CO BD OF DEVELOPMENT'!G23 -> 25648.81 | AH3: ='104902-MAD CO BD OF DEVELOPMENT'!G24 -> 0 | AI3: ='104902-MAD CO BD OF DEVELOPMENT'!G25 -> 0 | AJ3: ='104902-MAD CO BD OF DEVELOPMENT'!G26 -> 0 | AK3: ='104902-MAD CO BD OF DEVELOPMENT'!G27 -> 0 | AL3: ='104902-MAD CO BD OF DEVELOPMENT'!G28 -> 25648.81 | AN3: ='104902-MAD CO BD OF DEVELOPMENT'!G30 -> 1335345.5 | AO3: ='104902-MAD CO BD OF DEVELOPMENT'!G31 -> 211.6 | AP3: ='104902-MAD CO BD OF DEVELOPMENT'!G32 -> 0 | AQ3: ='104902-MAD CO BD OF DEVELOPMENT'!G33 -> 1335133.9 | AT3: ='104902-MAD CO BD OF DEVELOPMENT'!G36 -> 0
A4: Agr/Res | B4: =SUM(N1:N59) -> 24269511 | N4: ='104903-HEALTH SERVICES'!D4 -> 314915.36 | O4: ='104903-HEALTH SERVICES'!D5 -> 101621.35 | P4: ='104903-HEALTH SERVICES'!D6 -> 100602.98 | Q4: ='104903-HEALTH SERVICES'!D7 -> 517139.69 | R4: ='104903-HEALTH SERVICES'!D8 -> -3412.14 | S4: ='104903-HEALTH SERVICES'!D9 -> 14937.21 | T4: ='104903-HEALTH SERVICES'!D10 -> 498790.34 | W4: ='104903-HEALTH SERVICES'!D13 -> 29407.86 | X4: ='104903-HEALTH SERVICES'!D14 -> -0.71 | Y4: ='104903-HEALTH SERVICES'!D15 -> 4495.56 | Z4: ='104903-HEALTH SERVICES'!D16 -> 0 | AA4: ='104903-HEALTH SERVICES'!D17 -> 5119.92 | AB4: ='104903-HEALTH SERVICES'!D18 -> 0 | AC4: ='104903-HEALTH SERVICES'!D19 -> 39022.63 | AD4: ='104903-HEALTH SERVICES'!D20 -> 459767.71 | AG4: ='104903-HEALTH SERVICES'!D23 -> 8560.36 | AH4: ='104903-HEALTH SERVICES'!D24 -> 0 | AI4: ='104903-HEALTH SERVICES'!D25 -> 0 | AJ4: ='104903-HEALTH SERVICES'!D26 -> 0 | AK4: ='104903-HEALTH SERVICES'!D27 -> 0 | AL4: ='104903-HEALTH SERVICES'!D28 -> 8560.36 | AN4: ='104903-HEALTH SERVICES'!D30 -> 451207.35 | AO4: ='104903-HEALTH SERVICES'!D31 -> 75.89 | AP4: ='104903-HEALTH SERVICES'!D32 -> 0 | AQ4: ='104903-HEALTH SERVICES'!D33 -> 451131.46 | AT4: ='104903-HEALTH SERVICES'!D36 -> 0
A5: Com/Ind/Min | B5: =SUM(O1:O59) -> 5206827.8 | N5: ='104904-MENTAL HEALTH & RECOVERY'!C4 -> 140741.64 | O5: ='104904-MENTAL HEALTH & RECOVERY'!C5 -> 45620.77 | P5: ='104904-MENTAL HEALTH & RECOVERY'!C6 -> 43740.37 | Q5: ='104904-MENTAL HEALTH & RECOVERY'!C7 -> 230102.78 | R5: ='104904-MENTAL HEALTH & RECOVERY'!C8 -> -1487.35 | S5: ='104904-MENTAL HEALTH & RECOVERY'!C9 -> 6705.79 | T5: ='104904-MENTAL HEALTH & RECOVERY'!C10 -> 221909.64 | W5: ='104904-MENTAL HEALTH & RECOVERY'!C13 -> 16663.74 | X5: ='104904-MENTAL HEALTH & RECOVERY'!C14 -> -0.41 | Y5: ='104904-MENTAL HEALTH & RECOVERY'!C15 -> 2547.61 | Z5: ='104904-MENTAL HEALTH & RECOVERY'!C16 -> 0 | AA5: ='104904-MENTAL HEALTH & RECOVERY'!C17 -> 2207.55 | AB5: ='104904-MENTAL HEALTH & RECOVERY'!C18 -> 0 | AC5: ='104904-MENTAL HEALTH & RECOVERY'!C19 -> 21418.49 | AD5: ='104904-MENTAL HEALTH & RECOVERY'!C20 -> 200491.15 | AG5: ='104904-MENTAL HEALTH & RECOVERY'!C23 -> 3810.17 | AH5: ='104904-MENTAL HEALTH & RECOVERY'!C24 -> 0 | AI5: ='104904-MENTAL HEALTH & RECOVERY'!C25 -> 0 | AJ5: ='104904-MENTAL HEALTH & RECOVERY'!C26 -> 0 | AK5: ='104904-MENTAL HEALTH & RECOVERY'!C27 -> 0 | AL5: ='104904-MENTAL HEALTH & RECOVERY'!C28 -> 3810.17 | AN5: ='104904-MENTAL HEALTH & RECOVERY'!C30 -> 196680.98 | AO5: ='104904-MENTAL HEALTH & RECOVERY'!C31 -> 32.83 | AP5: ='104904-MENTAL HEALTH & RECOVERY'!C32 -> 0 | AQ5: ='104904-MENTAL HEALTH & RECOVERY'!C33 -> 196648.15 | AT5: ='104904-MENTAL HEALTH & RECOVERY'!C36 -> 0
A6: Public Utility | B6: =SUM(P1:P59) -> 5960059.7 | N6: ='104905-9-1-1'!C4 -> 442409.89 | O6: ='104905-9-1-1'!C5 -> 91241.33 | P6: ='104905-9-1-1'!C6 -> 87480.86 | Q6: ='104905-9-1-1'!C7 -> 621132.08 | R6: ='104905-9-1-1'!C8 -> 29.95 | S6: ='104905-9-1-1'!C9 -> 13411.48 | T6: ='104905-9-1-1'!C10 -> 607750.55 | W6: ='104905-9-1-1'!C13 -> 0 | X6: ='104905-9-1-1'!C14 -> 0 | Y6: ='104905-9-1-1'!C15 -> 0 | Z6: ='104905-9-1-1'!C16 -> 0 | AA6: ='104905-9-1-1'!C17 -> 8113.51 | AB6: ='104905-9-1-1'!C18 -> 0 | AC6: ='104905-9-1-1'!C19 -> 8113.51 | AD6: ='104905-9-1-1'!C20 -> 599637.04 | AG6: ='104905-9-1-1'!C23 -> 10486.55 | AH6: ='104905-9-1-1'!C24 -> 0 | AI6: ='104905-9-1-1'!C25 -> 0 | AJ6: ='104905-9-1-1'!C26 -> 0 | AK6: ='104905-9-1-1'!C27 -> 0 | AL6: ='104905-9-1-1'!C28 -> 10486.55 | AN6: ='104905-9-1-1'!C30 -> 589150.49 | AO6: ='104905-9-1-1'!C31 -> 118.63 | AP6: ='104905-9-1-1'!C32 -> 0 | AQ6: ='104905-9-1-1'!C33 -> 589031.86 | AT6: ='104905-9-1-1'!C36 -> 0
A7: TOTAL CURRENT | B7: =SUM(Q1:Q59) -> 35436398 | N7: ='104906-SENIOR CITIZENS'!C4 -> 248381.75 | O7: ='104906-SENIOR CITIZENS'!C5 -> 72991.57 | P7: ='104906-SENIOR CITIZENS'!C6 -> 69984.59 | Q7: ='104906-SENIOR CITIZENS'!C7 -> 391357.91 | R7: ='104906-SENIOR CITIZENS'!C8 -> -2073.56 | S7: ='104906-SENIOR CITIZENS'!C9 -> 10729.16 | T7: ='104906-SENIOR CITIZENS'!C10 -> 378555.19 | W7: ='104906-SENIOR CITIZENS'!C13 -> 29415.44 | X7: ='104906-SENIOR CITIZENS'!C14 -> -0.71 | Y7: ='104906-SENIOR CITIZENS'!C15 -> 4496.33 | Z7: ='104906-SENIOR CITIZENS'!C16 -> 0 | AA7: ='104906-SENIOR CITIZENS'!C17 -> 3891.4 | AB7: ='104906-SENIOR CITIZENS'!C18 -> 0 | AC7: ='104906-SENIOR CITIZENS'!C19 -> 37802.46 | AD7: ='104906-SENIOR CITIZENS'!C20 -> 340752.73 | AG7: ='104906-SENIOR CITIZENS'!C23 -> 6507.27 | AH7: ='104906-SENIOR CITIZENS'!C24 -> 0 | AI7: ='104906-SENIOR CITIZENS'!C25 -> 0 | AJ7: ='104906-SENIOR CITIZENS'!C26 -> 0 | AK7: ='104906-SENIOR CITIZENS'!C27 -> 0 | AL7: ='104906-SENIOR CITIZENS'!C28 -> 6507.27 | AN7: ='104906-SENIOR CITIZENS'!C30 -> 334245.46 | AO7: ='104906-SENIOR CITIZENS'!C31 -> 57.99 | AP7: ='104906-SENIOR CITIZENS'!C32 -> 0 | AQ7: ='104906-SENIOR CITIZENS'!C33 -> 334187.47 | AT7: ='104906-SENIOR CITIZENS'!C36 -> 0
A8: TOTAL DELINQUENT | B8: =SUM(R1:R59) -> -85575.76 | N8: ='22590-JONATHAN ALDER LSD'!H4 -> 3889651.3 | O8: ='22590-JONATHAN ALDER LSD'!H5 -> 256819.94 | P8: ='22590-JONATHAN ALDER LSD'!H6 -> 172787.89 | Q8: ='22590-JONATHAN ALDER LSD'!H7 -> 4319259.1 | R8: ='22590-JONATHAN ALDER LSD'!H8 -> -25301.33 | S8: ='22590-JONATHAN ALDER LSD'!H9 -> 0 | T8: ='22590-JONATHAN ALDER LSD'!H10 -> 4293957.8 | W8: ='22590-JONATHAN ALDER LSD'!H13 -> 428834.8 | X8: ='22590-JONATHAN ALDER LSD'!H14 -> 0 | Y8: ='22590-JONATHAN ALDER LSD'!H15 -> 70373.43 | Z8: ='22590-JONATHAN ALDER LSD'!H16 -> 0 | AA8: ='22590-JONATHAN ALDER LSD'!H17 -> 47899.17 | AB8: ='22590-JONATHAN ALDER LSD'!H18 -> 0 | AC8: ='22590-JONATHAN ALDER LSD'!H19 -> 547107.4 | AD8: ='22590-JONATHAN ALDER LSD'!H20 -> 3746850.4 | AG8: ='22590-JONATHAN ALDER LSD'!H23 -> 75078.34 | AH8: ='22590-JONATHAN ALDER LSD'!H24 -> 0 | AI8: ='22590-JONATHAN ALDER LSD'!H25 -> 0 | AJ8: ='22590-JONATHAN ALDER LSD'!H26 -> 0 | AK8: ='22590-JONATHAN ALDER LSD'!H27 -> 0 | AL8: ='22590-JONATHAN ALDER LSD'!H28 -> 75078.34 | AN8: ='22590-JONATHAN ALDER LSD'!H30 -> 3671772.1 | AO8: ='22590-JONATHAN ALDER LSD'!H31 -> 133899 | AP8: ='22590-JONATHAN ALDER LSD'!H32 -> 2630851.2 | AQ8: ='22590-JONATHAN ALDER LSD'!H33 -> 907021.86 | AT8: ='22590-JONATHAN ALDER LSD'!H36 -> 845085.7
A9: LESS TIF COLLECTED | B9: =SUM(S1:S59) -> 799133.74 | N9: ='22960-LONDON CSD'!F4 -> 3261030.5 | O9: ='22960-LONDON CSD'!F5 -> 1013378.4 | P9: ='22960-LONDON CSD'!F6 -> 574386.64 | Q9: ='22960-LONDON CSD'!F7 -> 4848795.5 | R9: ='22960-LONDON CSD'!F8 -> -70481.77 | S9: ='22960-LONDON CSD'!F9 -> 60524.67 | T9: ='22960-LONDON CSD'!F10 -> 4717789.1 | W9: ='22960-LONDON CSD'!F13 -> 457781.03 | X9: ='22960-LONDON CSD'!F14 -> 0 | Y9: ='22960-LONDON CSD'!F15 -> 79742.22 | Z9: ='22960-LONDON CSD'!F16 -> 0 | AA9: ='22960-LONDON CSD'!F17 -> 79218.37 | AB9: ='22960-LONDON CSD'!F18 -> 0 | AC9: ='22960-LONDON CSD'!F19 -> 616741.62 | AD9: ='22960-LONDON CSD'!F20 -> 4101047.5 | AG9: ='22960-LONDON CSD'!F23 -> 82488.7 | AH9: ='22960-LONDON CSD'!F24 -> 0 | AI9: ='22960-LONDON CSD'!F25 -> 0 | AJ9: ='22960-LONDON CSD'!F26 -> 0 | AK9: ='22960-LONDON CSD'!F27 -> 0 | AL9: ='22960-LONDON CSD'!F28 -> 82488.7 | AN9: ='22960-LONDON CSD'!F30 -> 4018558.8 | AO9: ='22960-LONDON CSD'!F31 -> 125625.74 | AP9: ='22960-LONDON CSD'!F32 -> 0 | AQ9: ='22960-LONDON CSD'!F33 -> 3892933 | AT9: ='22960-LONDON CSD'!F36 -> 918995.64
A10: TOTAL COLLECTED | B10: =SUM(T1:T59) -> 34551689 | N10: ='23130-MADISON PLAINS LSD'!I4 -> 2887038.1 | O10: ='23130-MADISON PLAINS LSD'!I5 -> 250517.72 | P10: ='23130-MADISON PLAINS LSD'!I6 -> 2628255.5 | Q10: ='23130-MADISON PLAINS LSD'!I7 -> 5765811.3 | R10: ='23130-MADISON PLAINS LSD'!I8 -> 62331.42 | S10: ='23130-MADISON PLAINS LSD'!I9 -> 0 | T10: ='23130-MADISON PLAINS LSD'!I10 -> 5828142.8 | W10: ='23130-MADISON PLAINS LSD'!I13 -> 414744.94 | X10: ='23130-MADISON PLAINS LSD'!I14 -> -38.39 | Y10: ='23130-MADISON PLAINS LSD'!I15 -> 45074.14 | Z10: ='23130-MADISON PLAINS LSD'!I16 -> 0 | AA10: ='23130-MADISON PLAINS LSD'!I17 -> 47078.62 | AB10: ='23130-MADISON PLAINS LSD'!I18 -> 0 | AC10: ='23130-MADISON PLAINS LSD'!I19 -> 506859.31 | AD10: ='23130-MADISON PLAINS LSD'!I20 -> 5321283.4 | AG10: ='23130-MADISON PLAINS LSD'!I23 -> 95134.06 | AH10: ='23130-MADISON PLAINS LSD'!I24 -> 0 | AI10: ='23130-MADISON PLAINS LSD'!I25 -> 0 | AJ10: ='23130-MADISON PLAINS LSD'!I26 -> 0 | AK10: ='23130-MADISON PLAINS LSD'!I27 -> 0 | AL10: ='23130-MADISON PLAINS LSD'!I28 -> 95134.06 | AN10: ='23130-MADISON PLAINS LSD'!I30 -> 5226149.4 | AO10: ='23130-MADISON PLAINS LSD'!I31 -> 118086.99 | AP10: ='23130-MADISON PLAINS LSD'!I32 -> 0 | AQ10: ='23130-MADISON PLAINS LSD'!I33 -> 5108062.4 | AT10: ='23130-MADISON PLAINS LSD'!I36 -> 466283.02
N11: ='22540-JEFFERSON LSD (MADISON CO'!H4 -> 2468266 | O11: ='22540-JEFFERSON LSD (MADISON CO'!H5 -> 1319852.9 | P11: ='22540-JEFFERSON LSD (MADISON CO'!H6 -> 401212.42 | Q11: ='22540-JEFFERSON LSD (MADISON CO'!H7 -> 4189331.4 | R11: ='22540-JEFFERSON LSD (MADISON CO'!H8 -> -32816.3 | S11: ='22540-JEFFERSON LSD (MADISON CO'!H9 -> 361681.14 | T11: ='22540-JEFFERSON LSD (MADISON CO'!H10 -> 3794833.9 | W11: ='22540-JEFFERSON LSD (MADISON CO'!H13 -> 303303.82 | X11: ='22540-JEFFERSON LSD (MADISON CO'!H14 -> 0 | Y11: ='22540-JEFFERSON LSD (MADISON CO'!H15 -> 55361.51 | Z11: ='22540-JEFFERSON LSD (MADISON CO'!H16 -> 0 | AA11: ='22540-JEFFERSON LSD (MADISON CO'!H17 -> 59131.75 | AB11: ='22540-JEFFERSON LSD (MADISON CO'!H18 -> 0 | AC11: ='22540-JEFFERSON LSD (MADISON CO'!H19 -> 417797.08 | AD11: ='22540-JEFFERSON LSD (MADISON CO'!H20 -> 3377036.8 | AG11: ='22540-JEFFERSON LSD (MADISON CO'!H23 -> 66351.36 | AH11: ='22540-JEFFERSON LSD (MADISON CO'!H24 -> 0 | AI11: ='22540-JEFFERSON LSD (MADISON CO'!H25 -> 0 | AJ11: ='22540-JEFFERSON LSD (MADISON CO'!H26 -> 0 | AK11: ='22540-JEFFERSON LSD (MADISON CO'!H27 -> 0 | AL11: ='22540-JEFFERSON LSD (MADISON CO'!H28 -> 66351.36 | AN11: ='22540-JEFFERSON LSD (MADISON CO'!H30 -> 3310685.5 | AO11: ='22540-JEFFERSON LSD (MADISON CO'!H31 -> 72259.18 | AP11: ='22540-JEFFERSON LSD (MADISON CO'!H32 -> 0 | AQ11: ='22540-JEFFERSON LSD (MADISON CO'!H33 -> 3238426.3 | AT11: ='22540-JEFFERSON LSD (MADISON CO'!H36 -> 491165.76
A12: REIMBURSEMENTS | N12: ='25940-WESTFALL LSD'!H4 -> 5626.5 | O12: ='25940-WESTFALL LSD'!H5 -> 0 | P12: ='25940-WESTFALL LSD'!H6 -> 11.84 | Q12: ='25940-WESTFALL LSD'!H7 -> 5638.34 | R12: ='25940-WESTFALL LSD'!H8 -> -6.42 | S12: ='25940-WESTFALL LSD'!H9 -> 0 | T12: ='25940-WESTFALL LSD'!H10 -> 5631.92 | W12: ='25940-WESTFALL LSD'!H13 -> 571.71 | X12: ='25940-WESTFALL LSD'!H14 -> 0 | Y12: ='25940-WESTFALL LSD'!H15 -> 82.5 | Z12: ='25940-WESTFALL LSD'!H16 -> 0 | AA12: ='25940-WESTFALL LSD'!H17 -> 0 | AB12: ='25940-WESTFALL LSD'!H18 -> 0 | AC12: ='25940-WESTFALL LSD'!H19 -> 654.21 | AD12: ='25940-WESTFALL LSD'!H20 -> 4977.71 | AG12: ='25940-WESTFALL LSD'!H23 -> 98.49 | AH12: ='25940-WESTFALL LSD'!H24 -> 0 | AI12: ='25940-WESTFALL LSD'!H25 -> 0 | AJ12: ='25940-WESTFALL LSD'!H26 -> 0 | AK12: ='25940-WESTFALL LSD'!H27 -> 0 | AL12: ='25940-WESTFALL LSD'!H28 -> 98.49 | AN12: ='25940-WESTFALL LSD'!H30 -> 4879.22 | AO12: ='25940-WESTFALL LSD'!H31 -> 0 | AP12: ='25940-WESTFALL LSD'!H32 -> 0 | AQ12: ='25940-WESTFALL LSD'!H33 -> 4879.22 | AT12: ='25940-WESTFALL LSD'!H36 -> 489.56
A13: Non-Business Credit | B13: =SUM(W1:W59) -> 2526942.4 | N13: ='23380-MIAMI TRACE LSD'!N4 -> 31859.72 | O13: ='23380-MIAMI TRACE LSD'!N5 -> 0 | P13: ='23380-MIAMI TRACE LSD'!N6 -> 0 | Q13: ='23380-MIAMI TRACE LSD'!N7 -> 31859.72 | R13: ='23380-MIAMI TRACE LSD'!N8 -> 0 | S13: ='23380-MIAMI TRACE LSD'!N9 -> 0 | T13: ='23380-MIAMI TRACE LSD'!N10 -> 31859.72 | W13: ='23380-MIAMI TRACE LSD'!N13 -> 2916.72 | X13: ='23380-MIAMI TRACE LSD'!N14 -> 0 | Y13: ='23380-MIAMI TRACE LSD'!N15 -> 358.15 | Z13: ='23380-MIAMI TRACE LSD'!N16 -> 0 | AA13: ='23380-MIAMI TRACE LSD'!N17 -> 536.48 | AB13: ='23380-MIAMI TRACE LSD'!N18 -> 0 | AC13: ='23380-MIAMI TRACE LSD'!N19 -> 3811.35 | AD13: ='23380-MIAMI TRACE LSD'!N20 -> 28048.37 | AG13: ='23380-MIAMI TRACE LSD'!N23 -> 557.1 | AH13: ='23380-MIAMI TRACE LSD'!N24 -> 0 | AI13: ='23380-MIAMI TRACE LSD'!N25 -> 0 | AJ13: ='23380-MIAMI TRACE LSD'!N26 -> 0 | AK13: ='23380-MIAMI TRACE LSD'!N27 -> 0 | AL13: ='23380-MIAMI TRACE LSD'!N28 -> 557.1 | AN13: ='23380-MIAMI TRACE LSD'!N30 -> 27491.27 | AO13: ='23380-MIAMI TRACE LSD'!N31 -> 0 | AP13: ='23380-MIAMI TRACE LSD'!N32 -> 0 | AQ13: ='23380-MIAMI TRACE LSD'!N33 -> 27491.27 | AT13: ='23380-MIAMI TRACE LSD'!N36 -> 0
A14: Non-Business Credit Delinquent | B14: =SUM(X1:X59) -> -55.24 | N14: ='23320-MECHANICSBURG EVSD'!I4 -> 53365.62 | O14: ='23320-MECHANICSBURG EVSD'!I5 -> 0 | P14: ='23320-MECHANICSBURG EVSD'!I6 -> 3252.26 | Q14: ='23320-MECHANICSBURG EVSD'!I7 -> 56617.88 | R14: ='23320-MECHANICSBURG EVSD'!I8 -> 760.8 | S14: ='23320-MECHANICSBURG EVSD'!I9 -> 0 | T14: ='23320-MECHANICSBURG EVSD'!I10 -> 57378.68 | W14: ='23320-MECHANICSBURG EVSD'!I13 -> 8331.51 | X14: ='23320-MECHANICSBURG EVSD'!I14 -> 0 | Y14: ='23320-MECHANICSBURG EVSD'!I15 -> 495.25 | Z14: ='23320-MECHANICSBURG EVSD'!I16 -> 0 | AA14: ='23320-MECHANICSBURG EVSD'!I17 -> 813.82 | AB14: ='23320-MECHANICSBURG EVSD'!I18 -> 0 | AC14: ='23320-MECHANICSBURG EVSD'!I19 -> 9640.58 | AD14: ='23320-MECHANICSBURG EVSD'!I20 -> 47738.1 | AG14: ='23320-MECHANICSBURG EVSD'!I23 -> 1003.3 | AH14: ='23320-MECHANICSBURG EVSD'!I24 -> 0 | AI14: ='23320-MECHANICSBURG EVSD'!I25 -> 0 | AJ14: ='23320-MECHANICSBURG EVSD'!I26 -> 0 | AK14: ='23320-MECHANICSBURG EVSD'!I27 -> 0 | AL14: ='23320-MECHANICSBURG EVSD'!I28 -> 1003.3 | AN14: ='23320-MECHANICSBURG EVSD'!I30 -> 46734.8 | AO14: ='23320-MECHANICSBURG EVSD'!I31 -> 3584.66 | AP14: ='23320-MECHANICSBURG EVSD'!I32 -> 0 | AQ14: ='23320-MECHANICSBURG EVSD'!I33 -> 43150.14 | AT14: ='23320-MECHANICSBURG EVSD'!I36 -> 21422.46
A15: Owner-Occupancy Credit | B15: =SUM(Y1:Y59) -> 389909.98 | N15: ='21700-FAIRBANKS LSD'!G4 -> 256070.52 | O15: ='21700-FAIRBANKS LSD'!G5 -> 140.98 | P15: ='21700-FAIRBANKS LSD'!G6 -> 20222.38 | Q15: ='21700-FAIRBANKS LSD'!G7 -> 276433.88 | R15: ='21700-FAIRBANKS LSD'!G8 -> 1929.91 | S15: ='21700-FAIRBANKS LSD'!G9 -> 0 | T15: ='21700-FAIRBANKS LSD'!G10 -> 278363.79 | W15: ='21700-FAIRBANKS LSD'!G13 -> 43963.31 | X15: ='21700-FAIRBANKS LSD'!G14 -> 0 | Y15: ='21700-FAIRBANKS LSD'!G15 -> 3313.43 | Z15: ='21700-FAIRBANKS LSD'!G16 -> 0 | AA15: ='21700-FAIRBANKS LSD'!G17 -> 2589.11 | AB15: ='21700-FAIRBANKS LSD'!G18 -> 0 | AC15: ='21700-FAIRBANKS LSD'!G19 -> 49865.85 | AD15: ='21700-FAIRBANKS LSD'!G20 -> 228497.94 | AG15: ='21700-FAIRBANKS LSD'!G23 -> 4867.09 | AH15: ='21700-FAIRBANKS LSD'!G24 -> 0 | AI15: ='21700-FAIRBANKS LSD'!G25 -> 0 | AJ15: ='21700-FAIRBANKS LSD'!G26 -> 0 | AK15: ='21700-FAIRBANKS LSD'!G27 -> 0 | AL15: ='21700-FAIRBANKS LSD'!G28 -> 4867.09 | AN15: ='21700-FAIRBANKS LSD'!G30 -> 223630.85 | AO15: ='21700-FAIRBANKS LSD'!G31 -> 30946 | AP15: ='21700-FAIRBANKS LSD'!G32 -> 0 | AQ15: ='21700-FAIRBANKS LSD'!G33 -> 192684.85 | AT15: ='21700-FAIRBANKS LSD'!G36 -> 116371.48
A16: Owner-Occupancy Credit Delinquent | B16: =SUM(Z1:Z59) -> 0 | N16: ='30070-TOLLES CAREER & TECHNICAL'!C4 -> 812014.51 | O16: ='30070-TOLLES CAREER & TECHNICAL'!C5 -> 185845.05 | P16: ='30070-TOLLES CAREER & TECHNICAL'!C6 -> 157305.85 | Q16: ='30070-TOLLES CAREER & TECHNICAL'!C7 -> 1155165.4 | R16: ='30070-TOLLES CAREER & TECHNICAL'!C8 -> 3237.17 | S16: ='30070-TOLLES CAREER & TECHNICAL'!C9 -> 27317.67 | T16: ='30070-TOLLES CAREER & TECHNICAL'!C10 -> 1131084.9 | W16: ='30070-TOLLES CAREER & TECHNICAL'!C13 -> 136358.91 | X16: ='30070-TOLLES CAREER & TECHNICAL'!C14 -> -3.33 | Y16: ='30070-TOLLES CAREER & TECHNICAL'!C15 -> 20898.68 | Z16: ='30070-TOLLES CAREER & TECHNICAL'!C16 -> 0 | AA16: ='30070-TOLLES CAREER & TECHNICAL'!C17 -> 18068.32 | AB16: ='30070-TOLLES CAREER & TECHNICAL'!C18 -> 0 | AC16: ='30070-TOLLES CAREER & TECHNICAL'!C19 -> 175322.58 | AD16: ='30070-TOLLES CAREER & TECHNICAL'!C20 -> 955762.33 | AG16: ='30070-TOLLES CAREER & TECHNICAL'!C23 -> 19525.05 | AH16: ='30070-TOLLES CAREER & TECHNICAL'!C24 -> 0 | AI16: ='30070-TOLLES CAREER & TECHNICAL'!C25 -> 0 | AJ16: ='30070-TOLLES CAREER & TECHNICAL'!C26 -> 0 | AK16: ='30070-TOLLES CAREER & TECHNICAL'!C27 -> 0 | AL16: ='30070-TOLLES CAREER & TECHNICAL'!C28 -> 19525.05 | AN16: ='30070-TOLLES CAREER & TECHNICAL'!C30 -> 936237.28 | AO16: ='30070-TOLLES CAREER & TECHNICAL'!C31 -> 75579.75 | AP16: ='30070-TOLLES CAREER & TECHNICAL'!C32 -> 184198.89 | AQ16: ='30070-TOLLES CAREER & TECHNICAL'!C33 -> 676458.64 | AT16: ='30070-TOLLES CAREER & TECHNICAL'!C36 -> 426468.96
A17: Homestead | B17: =SUM(AA1:AA59) -> 422988.16 | N17: ='30310-PICKAWAY-ROSS COUNTY JVSD'!E4 -> 403.7 | O17: ='30310-PICKAWAY-ROSS COUNTY JVSD'!E5 -> 0 | P17: ='30310-PICKAWAY-ROSS COUNTY JVSD'!E6 -> 1.54 | Q17: ='30310-PICKAWAY-ROSS COUNTY JVSD'!E7 -> 405.24 | R17: ='30310-PICKAWAY-ROSS COUNTY JVSD'!E8 -> -0.82 | S17: ='30310-PICKAWAY-ROSS COUNTY JVSD'!E9 -> 0 | T17: ='30310-PICKAWAY-ROSS COUNTY JVSD'!E10 -> 404.42 | W17: ='30310-PICKAWAY-ROSS COUNTY JVSD'!E13 -> 53.18 | X17: ='30310-PICKAWAY-ROSS COUNTY JVSD'!E14 -> 0 | Y17: ='30310-PICKAWAY-ROSS COUNTY JVSD'!E15 -> 7.66 | Z17: ='30310-PICKAWAY-ROSS COUNTY JVSD'!E16 -> 0 | AA17: ='30310-PICKAWAY-ROSS COUNTY JVSD'!E17 -> 0 | AB17: ='30310-PICKAWAY-ROSS COUNTY JVSD'!E18 -> 0 | AC17: ='30310-PICKAWAY-ROSS COUNTY JVSD'!E19 -> 60.84 | AD17: ='30310-PICKAWAY-ROSS COUNTY JVSD'!E20 -> 343.58 | AG17: ='30310-PICKAWAY-ROSS COUNTY JVSD'!E23 -> 7.06 | AH17: ='30310-PICKAWAY-ROSS COUNTY JVSD'!E24 -> 0 | AI17: ='30310-PICKAWAY-ROSS COUNTY JVSD'!E25 -> 0 | AJ17: ='30310-PICKAWAY-ROSS COUNTY JVSD'!E26 -> 0 | AK17: ='30310-PICKAWAY-ROSS COUNTY JVSD'!E27 -> 0 | AL17: ='30310-PICKAWAY-ROSS COUNTY JVSD'!E28 -> 7.06 | AN17: ='30310-PICKAWAY-ROSS COUNTY JVSD'!E30 -> 336.52 | AO17: ='30310-PICKAWAY-ROSS COUNTY JVSD'!E31 -> 0 | AP17: ='30310-PICKAWAY-ROSS COUNTY JVSD'!E32 -> 0 | AQ17: ='30310-PICKAWAY-ROSS COUNTY JVSD'!E33 -> 336.52 | AT17: ='30310-PICKAWAY-ROSS COUNTY JVSD'!E36 -> 127.98
A18: Homestead Delinquent | B18: =SUM(AB1:AB59) -> 0 | N18: ='30160-GREAT OAKS JVSD'!C4 -> 1490.26 | O18: ='30160-GREAT OAKS JVSD'!C5 -> 0 | P18: ='30160-GREAT OAKS JVSD'!C6 -> 0 | Q18: ='30160-GREAT OAKS JVSD'!C7 -> 1490.26 | R18: ='30160-GREAT OAKS JVSD'!C8 -> 0 | S18: ='30160-GREAT OAKS JVSD'!C9 -> 0 | T18: ='30160-GREAT OAKS JVSD'!C10 -> 1490.26 | W18: ='30160-GREAT OAKS JVSD'!C13 -> 214.32 | X18: ='30160-GREAT OAKS JVSD'!C14 -> 0 | Y18: ='30160-GREAT OAKS JVSD'!C15 -> 26.33 | Z18: ='30160-GREAT OAKS JVSD'!C16 -> 0 | AA18: ='30160-GREAT OAKS JVSD'!C17 -> 35.52 | AB18: ='30160-GREAT OAKS JVSD'!C18 -> 0 | AC18: ='30160-GREAT OAKS JVSD'!C19 -> 276.17 | AD18: ='30160-GREAT OAKS JVSD'!C20 -> 1214.09 | AG18: ='30160-GREAT OAKS JVSD'!C23 -> 26.06 | AH18: ='30160-GREAT OAKS JVSD'!C24 -> 0 | AI18: ='30160-GREAT OAKS JVSD'!C25 -> 0 | AJ18: ='30160-GREAT OAKS JVSD'!C26 -> 0 | AK18: ='30160-GREAT OAKS JVSD'!C27 -> 0 | AL18: ='30160-GREAT OAKS JVSD'!C28 -> 26.06 | AN18: ='30160-GREAT OAKS JVSD'!C30 -> 1188.03 | AO18: ='30160-GREAT OAKS JVSD'!C31 -> 83.8 | AP18: ='30160-GREAT OAKS JVSD'!C32 -> 0 | AQ18: ='30160-GREAT OAKS JVSD'!C33 -> 1104.23 | AT18: ='30160-GREAT OAKS JVSD'!C36 -> 729.7
A19: TOTAL REIMBURSEMENTS | B19: =SUM(AC1:AC59) -> 3339785.3 | N19: ='30290-OHIO HI-POINT JVSD'!D4 -> 4092.9 | O19: ='30290-OHIO HI-POINT JVSD'!D5 -> 0 | P19: ='30290-OHIO HI-POINT JVSD'!D6 -> 229.78 | Q19: ='30290-OHIO HI-POINT JVSD'!D7 -> 4322.68 | R19: ='30290-OHIO HI-POINT JVSD'!D8 -> 69.78 | S19: ='30290-OHIO HI-POINT JVSD'!D9 -> 0 | T19: ='30290-OHIO HI-POINT JVSD'!D10 -> 4392.46 | W19: ='30290-OHIO HI-POINT JVSD'!D13 -> 636.52 | X19: ='30290-OHIO HI-POINT JVSD'!D14 -> 0 | Y19: ='30290-OHIO HI-POINT JVSD'!D15 -> 37.83 | Z19: ='30290-OHIO HI-POINT JVSD'!D16 -> 0 | AA19: ='30290-OHIO HI-POINT JVSD'!D17 -> 74.76 | AB19: ='30290-OHIO HI-POINT JVSD'!D18 -> 0 | AC19: ='30290-OHIO HI-POINT JVSD'!D19 -> 749.11 | AD19: ='30290-OHIO HI-POINT JVSD'!D20 -> 3643.35 | AG19: ='30290-OHIO HI-POINT JVSD'!D23 -> 76.8 | AH19: ='30290-OHIO HI-POINT JVSD'!D24 -> 0 | AI19: ='30290-OHIO HI-POINT JVSD'!D25 -> 0 | AJ19: ='30290-OHIO HI-POINT JVSD'!D26 -> 0 | AK19: ='30290-OHIO HI-POINT JVSD'!D27 -> 0 | AL19: ='30290-OHIO HI-POINT JVSD'!D28 -> 76.8 | AN19: ='30290-OHIO HI-POINT JVSD'!D30 -> 3566.55 | AO19: ='30290-OHIO HI-POINT JVSD'!D31 -> 462.36 | AP19: ='30290-OHIO HI-POINT JVSD'!D32 -> 0 | AQ19: ='30290-OHIO HI-POINT JVSD'!D33 -> 3104.19 | AT19: ='30290-OHIO HI-POINT JVSD'!D36 -> 2763.26
A20: TOTAL DISTRIBUTION | B20: =SUM(AD1:AD59) -> 31211904
A22: DEDUCTIONS
A23: Aud. And Treas. Fees | B23: =SUM(AG1:AG59) -> 592802.49
A24: DETAC Fee | B24: =SUM(AH1:AH59) -> 0
A25: Delinquent Advertising | B25: =SUM(AI1:AI59) -> 0 | N25: ='40891-CANAAN TWP'!C4 -> 69735.54 | O25: ='40891-CANAAN TWP'!C5 -> 1001.23 | P25: ='40891-CANAAN TWP'!C6 -> 2497.17 | Q25: ='40891-CANAAN TWP'!C7 -> 73233.94 | R25: ='40891-CANAAN TWP'!C8 -> -76.44 | S25: ='40891-CANAAN TWP'!C9 -> 0 | T25: ='40891-CANAAN TWP'!C10 -> 73157.5 | W25: ='40891-CANAAN TWP'!C13 -> 8682.69 | X25: ='40891-CANAAN TWP'!C14 -> 0 | Y25: ='40891-CANAAN TWP'!C15 -> 1331.16 | Z25: ='40891-CANAAN TWP'!C16 -> 0 | AA25: ='40891-CANAAN TWP'!C17 -> 779.22 | AB25: ='40891-CANAAN TWP'!C18 -> 0 | AC25: ='40891-CANAAN TWP'!C19 -> 10793.07 | AD25: ='40891-CANAAN TWP'!C20 -> 62364.43 | AG25: ='40891-CANAAN TWP'!C23 -> 1279.14 | AH25: ='40891-CANAAN TWP'!C24 -> 0 | AI25: ='40891-CANAAN TWP'!C25 -> 0 | AJ25: ='40891-CANAAN TWP'!C26 -> 0 | AK25: ='40891-CANAAN TWP'!C27 -> 0 | AL25: ='40891-CANAAN TWP'!C28 -> 1279.14 | AN25: ='40891-CANAAN TWP'!C30 -> 61085.29 | AO25: ='40891-CANAAN TWP'!C31 -> 0 | AP25: ='40891-CANAAN TWP'!C32 -> 0 | AQ25: ='40891-CANAAN TWP'!C33 -> 61085.29 | AT25: ='40891-CANAAN TWP'!C36 -> 0
A26: Tax Collector Salary | B26: =SUM(AJ1:AJ59) -> 0 | N26: ='41410-DARBY TWP'!G4 -> 178595.66 | O26: ='41410-DARBY TWP'!G5 -> 22022.3 | P26: ='41410-DARBY TWP'!G6 -> 5811.84 | Q26: ='41410-DARBY TWP'!G7 -> 206429.8 | R26: ='41410-DARBY TWP'!G8 -> -1807.56 | S26: ='41410-DARBY TWP'!G9 -> 0 | T26: ='41410-DARBY TWP'!G10 -> 204622.24 | W26: ='41410-DARBY TWP'!G13 -> 6081.83 | X26: ='41410-DARBY TWP'!G14 -> 0 | Y26: ='41410-DARBY TWP'!G15 -> 1054.61 | Z26: ='41410-DARBY TWP'!G16 -> 0 | AA26: ='41410-DARBY TWP'!G17 -> 1953.1 | AB26: ='41410-DARBY TWP'!G18 -> 0 | AC26: ='41410-DARBY TWP'!G19 -> 9089.54 | AD26: ='41410-DARBY TWP'!G20 -> 195532.7 | AG26: ='41410-DARBY TWP'!G23 -> 3577.74 | AH26: ='41410-DARBY TWP'!G24 -> 0 | AI26: ='41410-DARBY TWP'!G25 -> 0 | AJ26: ='41410-DARBY TWP'!G26 -> 0 | AK26: ='41410-DARBY TWP'!G27 -> 0 | AL26: ='41410-DARBY TWP'!G28 -> 3577.74 | AN26: ='41410-DARBY TWP'!G30 -> 191954.96 | AO26: ='41410-DARBY TWP'!G31 -> 40.56 | AP26: ='41410-DARBY TWP'!G32 -> 0 | AQ26: ='41410-DARBY TWP'!G33 -> 191914.4 | AT26: ='41410-DARBY TWP'!G36 -> 0
A27: Board of Election | B27: =SUM(AK1:AK59) -> 0 | N27: ='41430-DEER CREEK TWP'!C4 -> 25768.91 | O27: ='41430-DEER CREEK TWP'!C5 -> 5405.25 | P27: ='41430-DEER CREEK TWP'!C6 -> 2847.1 | Q27: ='41430-DEER CREEK TWP'!C7 -> 34021.26 | R27: ='41430-DEER CREEK TWP'!C8 -> -169.93 | S27: ='41430-DEER CREEK TWP'!C9 -> 358.85 | T27: ='41430-DEER CREEK TWP'!C10 -> 33492.48 | W27: ='41430-DEER CREEK TWP'!C13 -> 3106.34 | X27: ='41430-DEER CREEK TWP'!C14 -> 0 | Y27: ='41430-DEER CREEK TWP'!C15 -> 355.12 | Z27: ='41430-DEER CREEK TWP'!C16 -> 0 | AA27: ='41430-DEER CREEK TWP'!C17 -> 465.64 | AB27: ='41430-DEER CREEK TWP'!C18 -> 0 | AC27: ='41430-DEER CREEK TWP'!C19 -> 3927.1 | AD27: ='41430-DEER CREEK TWP'!C20 -> 29565.38 | AG27: ='41430-DEER CREEK TWP'!C23 -> 585.58 | AH27: ='41430-DEER CREEK TWP'!C24 -> 0 | AI27: ='41430-DEER CREEK TWP'!C25 -> 0 | AJ27: ='41430-DEER CREEK TWP'!C26 -> 0 | AK27: ='41430-DEER CREEK TWP'!C27 -> 0 | AL27: ='41430-DEER CREEK TWP'!C28 -> 585.58 | AN27: ='41430-DEER CREEK TWP'!C30 -> 28979.8 | AO27: ='41430-DEER CREEK TWP'!C31 -> 12.44 | AP27: ='41430-DEER CREEK TWP'!C32 -> 0 | AQ27: ='41430-DEER CREEK TWP'!C33 -> 28967.36 | AT27: ='41430-DEER CREEK TWP'!C36 -> 0
A28: TOTAL DEDUCTIONS | B28: =SUM(AL1:AL59) -> 592802.49 | N28: ='41734-FAIRFIELD TWP'!F4 -> 131786.76 | O28: ='41734-FAIRFIELD TWP'!F5 -> 672.32 | P28: ='41734-FAIRFIELD TWP'!F6 -> 8099.11 | Q28: ='41734-FAIRFIELD TWP'!F7 -> 140558.19 | R28: ='41734-FAIRFIELD TWP'!F8 -> 685.35 | S28: ='41734-FAIRFIELD TWP'!F9 -> 0 | T28: ='41734-FAIRFIELD TWP'!F10 -> 141243.54 | W28: ='41734-FAIRFIELD TWP'!F13 -> 11869.43 | X28: ='41734-FAIRFIELD TWP'!F14 -> 0 | Y28: ='41734-FAIRFIELD TWP'!F15 -> 1664.9 | Z28: ='41734-FAIRFIELD TWP'!F16 -> 0 | AA28: ='41734-FAIRFIELD TWP'!F17 -> 2301.22 | AB28: ='41734-FAIRFIELD TWP'!F18 -> 0 | AC28: ='41734-FAIRFIELD TWP'!F19 -> 15835.55 | AD28: ='41734-FAIRFIELD TWP'!F20 -> 125407.99 | AG28: ='41734-FAIRFIELD TWP'!F23 -> 4849.43 | AH28: ='41734-FAIRFIELD TWP'!F24 -> 0 | AI28: ='41734-FAIRFIELD TWP'!F25 -> 0 | AJ28: ='41734-FAIRFIELD TWP'!F26 -> 0 | AK28: ='41734-FAIRFIELD TWP'!F27 -> 0 | AL28: ='41734-FAIRFIELD TWP'!F28 -> 4849.43 | AN28: ='41734-FAIRFIELD TWP'!F30 -> 120558.56 | AO28: ='41734-FAIRFIELD TWP'!F31 -> 90.77 | AP28: ='41734-FAIRFIELD TWP'!F32 -> 0 | AQ28: ='41734-FAIRFIELD TWP'!F33 -> 120467.79 | AT28: ='41734-FAIRFIELD TWP'!F36 -> 0
N29: ='47058-JEFFERSON TWP'!F4 -> 1034189.9 | O29: ='47058-JEFFERSON TWP'!F5 -> 598254.48 | P29: ='47058-JEFFERSON TWP'!F6 -> 199564.2 | Q29: ='47058-JEFFERSON TWP'!F7 -> 1832008.5 | R29: ='47058-JEFFERSON TWP'!F8 -> -19408.05 | S29: ='47058-JEFFERSON TWP'!F9 -> 162141.69 | T29: ='47058-JEFFERSON TWP'!F10 -> 1650458.8 | W29: ='47058-JEFFERSON TWP'!F13 -> 89534.2 | X29: ='47058-JEFFERSON TWP'!F14 -> 0 | Y29: ='47058-JEFFERSON TWP'!F15 -> 16198.82 | Z29: ='47058-JEFFERSON TWP'!F16 -> 0 | AA29: ='47058-JEFFERSON TWP'!F17 -> 21285.74 | AB29: ='47058-JEFFERSON TWP'!F18 -> 0 | AC29: ='47058-JEFFERSON TWP'!F19 -> 127018.76 | AD29: ='47058-JEFFERSON TWP'!F20 -> 1523440 | AG29: ='47058-JEFFERSON TWP'!F23 -> 28857.67 | AH29: ='47058-JEFFERSON TWP'!F24 -> 0 | AI29: ='47058-JEFFERSON TWP'!F25 -> 0 | AJ29: ='47058-JEFFERSON TWP'!F26 -> 0 | AK29: ='47058-JEFFERSON TWP'!F27 -> 0 | AL29: ='47058-JEFFERSON TWP'!F28 -> 28857.67 | AN29: ='47058-JEFFERSON TWP'!F30 -> 1494582.4 | AO29: ='47058-JEFFERSON TWP'!F31 -> 86.28 | AP29: ='47058-JEFFERSON TWP'!F32 -> 0 | AQ29: ='47058-JEFFERSON TWP'!F33 -> 1494496.1 | AT29: ='47058-JEFFERSON TWP'!F36 -> 0
A30: BALANCES | B30: =SUM(AN1:AN59) -> 30619101
A31: Less Refunds | B31: =SUM(AO1:AO59) -> 562982.02 | N31: ='47101-MONROE TWP'!C4 -> 34036.52 | O31: ='47101-MONROE TWP'!C5 -> 463.5 | P31: ='47101-MONROE TWP'!C6 -> 1061.07 | Q31: ='47101-MONROE TWP'!C7 -> 35561.09 | R31: ='47101-MONROE TWP'!C8 -> 106.73 | S31: ='47101-MONROE TWP'!C9 -> 0 | T31: ='47101-MONROE TWP'!C10 -> 35667.82 | W31: ='47101-MONROE TWP'!C13 -> 3988.06 | X31: ='47101-MONROE TWP'!C14 -> 0 | Y31: ='47101-MONROE TWP'!C15 -> 584.43 | Z31: ='47101-MONROE TWP'!C16 -> 0 | AA31: ='47101-MONROE TWP'!C17 -> 352.98 | AB31: ='47101-MONROE TWP'!C18 -> 0 | AC31: ='47101-MONROE TWP'!C19 -> 4925.47 | AD31: ='47101-MONROE TWP'!C20 -> 30742.35 | AG31: ='47101-MONROE TWP'!C23 -> 623.62 | AH31: ='47101-MONROE TWP'!C24 -> 0 | AI31: ='47101-MONROE TWP'!C25 -> 0 | AJ31: ='47101-MONROE TWP'!C26 -> 0 | AK31: ='47101-MONROE TWP'!C27 -> 0 | AL31: ='47101-MONROE TWP'!C28 -> 623.62 | AN31: ='47101-MONROE TWP'!C30 -> 30118.73 | AO31: ='47101-MONROE TWP'!C31 -> 0 | AP31: ='47101-MONROE TWP'!C32 -> 0 | AQ31: ='47101-MONROE TWP'!C33 -> 30118.73 | AT31: ='47101-MONROE TWP'!C36 -> 0
A32: Less Advances | B32: =SUM(AP1:AP59) -> 2815050.1 | N32: ='43900-OAK RUN TWP'!C4 -> 20596.49 | O32: ='43900-OAK RUN TWP'!C5 -> 103.14 | P32: ='43900-OAK RUN TWP'!C6 -> 29503.08 | Q32: ='43900-OAK RUN TWP'!C7 -> 50202.71 | R32: ='43900-OAK RUN TWP'!C8 -> 152.86 | S32: ='43900-OAK RUN TWP'!C9 -> 0 | T32: ='43900-OAK RUN TWP'!C10 -> 50355.57 | W32: ='43900-OAK RUN TWP'!C13 -> 2655.41 | X32: ='43900-OAK RUN TWP'!C14 -> -2.59 | Y32: ='43900-OAK RUN TWP'!C15 -> 290.07 | Z32: ='43900-OAK RUN TWP'!C16 -> 0 | AA32: ='43900-OAK RUN TWP'!C17 -> 211.92 | AB32: ='43900-OAK RUN TWP'!C18 -> 0 | AC32: ='43900-OAK RUN TWP'!C19 -> 3154.81 | AD32: ='43900-OAK RUN TWP'!C20 -> 47200.76 | AG32: ='43900-OAK RUN TWP'!C23 -> 468.63 | AH32: ='43900-OAK RUN TWP'!C24 -> 0 | AI32: ='43900-OAK RUN TWP'!C25 -> 0 | AJ32: ='43900-OAK RUN TWP'!C26 -> 0 | AK32: ='43900-OAK RUN TWP'!C27 -> 0 | AL32: ='43900-OAK RUN TWP'!C28 -> 468.63 | AN32: ='43900-OAK RUN TWP'!C30 -> 46732.13 | AO32: ='43900-OAK RUN TWP'!C31 -> 47.19 | AP32: ='43900-OAK RUN TWP'!C32 -> 0 | AQ32: ='43900-OAK RUN TWP'!C33 -> 46684.94 | AT32: ='43900-OAK RUN TWP'!C36 -> 0
A33: NET DISTRIBUTION | B33: =SUM(AQ1:AQ59) -> 27241069 | N33: ='44013-PAINT TWP'!F4 -> 42783.9 | O33: ='44013-PAINT TWP'!F5 -> 404.71 | P33: ='44013-PAINT TWP'!F6 -> 7975.36 | Q33: ='44013-PAINT TWP'!F7 -> 51163.97 | R33: ='44013-PAINT TWP'!F8 -> -116.76 | S33: ='44013-PAINT TWP'!F9 -> 0 | T33: ='44013-PAINT TWP'!F10 -> 51047.21 | W33: ='44013-PAINT TWP'!F13 -> 4486.26 | X33: ='44013-PAINT TWP'!F14 -> 0 | Y33: ='44013-PAINT TWP'!F15 -> 307.65 | Z33: ='44013-PAINT TWP'!F16 -> 0 | AA33: ='44013-PAINT TWP'!F17 -> 461.16 | AB33: ='44013-PAINT TWP'!F18 -> 0 | AC33: ='44013-PAINT TWP'!F19 -> 5255.07 | AD33: ='44013-PAINT TWP'!F20 -> 45792.14 | AG33: ='44013-PAINT TWP'!F23 -> 892.52 | AH33: ='44013-PAINT TWP'!F24 -> 0 | AI33: ='44013-PAINT TWP'!F25 -> 0 | AJ33: ='44013-PAINT TWP'!F26 -> 0 | AK33: ='44013-PAINT TWP'!F27 -> 0 | AL33: ='44013-PAINT TWP'!F28 -> 892.52 | AN33: ='44013-PAINT TWP'!F30 -> 44899.62 | AO33: ='44013-PAINT TWP'!F31 -> 0 | AP33: ='44013-PAINT TWP'!F32 -> 0 | AQ33: ='44013-PAINT TWP'!F33 -> 44899.62 | AT33: ='44013-PAINT TWP'!F36 -> 0
N34: ='44215-PIKE TWP'!E4 -> 31806.83 | O34: ='44215-PIKE TWP'!E5 -> 22.87 | P34: ='44215-PIKE TWP'!E6 -> 2420.77 | Q34: ='44215-PIKE TWP'!E7 -> 34250.47 | R34: ='44215-PIKE TWP'!E8 -> 179.32 | S34: ='44215-PIKE TWP'!E9 -> 0 | T34: ='44215-PIKE TWP'!E10 -> 34429.79 | W34: ='44215-PIKE TWP'!E13 -> 3803.19 | X34: ='44215-PIKE TWP'!E14 -> 0 | Y34: ='44215-PIKE TWP'!E15 -> 276.27 | Z34: ='44215-PIKE TWP'!E16 -> 0 | AA34: ='44215-PIKE TWP'!E17 -> 222.11 | AB34: ='44215-PIKE TWP'!E18 -> 0 | AC34: ='44215-PIKE TWP'!E19 -> 4301.57 | AD34: ='44215-PIKE TWP'!E20 -> 30128.22 | AG34: ='44215-PIKE TWP'!E23 -> 601.98 | AH34: ='44215-PIKE TWP'!E24 -> 0 | AI34: ='44215-PIKE TWP'!E25 -> 0 | AJ34: ='44215-PIKE TWP'!E26 -> 0 | AK34: ='44215-PIKE TWP'!E27 -> 0 | AL34: ='44215-PIKE TWP'!E28 -> 601.98 | AN34: ='44215-PIKE TWP'!E30 -> 29526.24 | AO34: ='44215-PIKE TWP'!E31 -> 0 | AP34: ='44215-PIKE TWP'!E32 -> 0 | AQ34: ='44215-PIKE TWP'!E33 -> 29526.24 | AT34: ='44215-PIKE TWP'!E36 -> 0
A35: OTHER | N35: ='44259-PLEASANT TWP'!F4 -> 31741.34 | O35: ='44259-PLEASANT TWP'!F5 -> 3900.9 | P35: ='44259-PLEASANT TWP'!F6 -> 8375.98 | Q35: ='44259-PLEASANT TWP'!F7 -> 44018.22 | R35: ='44259-PLEASANT TWP'!F8 -> 380.32 | S35: ='44259-PLEASANT TWP'!F9 -> 0 | T35: ='44259-PLEASANT TWP'!F10 -> 44398.54 | W35: ='44259-PLEASANT TWP'!F13 -> 2207.51 | X35: ='44259-PLEASANT TWP'!F14 -> 0 | Y35: ='44259-PLEASANT TWP'!F15 -> 311.49 | Z35: ='44259-PLEASANT TWP'!F16 -> 0 | AA35: ='44259-PLEASANT TWP'!F17 -> 598.1 | AB35: ='44259-PLEASANT TWP'!F18 -> 0 | AC35: ='44259-PLEASANT TWP'!F19 -> 3117.1 | AD35: ='44259-PLEASANT TWP'!F20 -> 41281.44 | AG35: ='44259-PLEASANT TWP'!F23 -> 726.53 | AH35: ='44259-PLEASANT TWP'!F24 -> 0 | AI35: ='44259-PLEASANT TWP'!F25 -> 0 | AJ35: ='44259-PLEASANT TWP'!F26 -> 0 | AK35: ='44259-PLEASANT TWP'!F27 -> 0 | AL35: ='44259-PLEASANT TWP'!F28 -> 726.53 | AN35: ='44259-PLEASANT TWP'!F30 -> 40554.91 | AO35: ='44259-PLEASANT TWP'!F31 -> 7.08 | AP35: ='44259-PLEASANT TWP'!F32 -> 0 | AQ35: ='44259-PLEASANT TWP'!F33 -> 40547.83 | AT35: ='44259-PLEASANT TWP'!F36 -> 0
A36: Inflation Cap Credit | B36: =SUM(AT1:AT59) -> 3289903.5
N37: ='44410-RANGE TWP'!K4 -> 98702.72 | O37: ='44410-RANGE TWP'!K5 -> 2735.77 | P37: ='44410-RANGE TWP'!K6 -> 89617.22 | Q37: ='44410-RANGE TWP'!K7 -> 191055.71 | R37: ='44410-RANGE TWP'!K8 -> 262.3 | S37: ='44410-RANGE TWP'!K9 -> 0 | T37: ='44410-RANGE TWP'!K10 -> 191318.01 | W37: ='44410-RANGE TWP'!K13 -> 7835.66 | X37: ='44410-RANGE TWP'!K14 -> 0 | Y37: ='44410-RANGE TWP'!K15 -> 587.36 | Z37: ='44410-RANGE TWP'!K16 -> 0 | AA37: ='44410-RANGE TWP'!K17 -> 1136.02 | AB37: ='44410-RANGE TWP'!K18 -> 0 | AC37: ='44410-RANGE TWP'!K19 -> 9559.04 | AD37: ='44410-RANGE TWP'!K20 -> 181758.97 | AG37: ='44410-RANGE TWP'!K23 -> 2607.26 | AH37: ='44410-RANGE TWP'!K24 -> 0 | AI37: ='44410-RANGE TWP'!K25 -> 0 | AJ37: ='44410-RANGE TWP'!K26 -> 0 | AK37: ='44410-RANGE TWP'!K27 -> 0 | AL37: ='44410-RANGE TWP'!K28 -> 2607.26 | AN37: ='44410-RANGE TWP'!K30 -> 179151.71 | AO37: ='44410-RANGE TWP'!K31 -> 0 | AP37: ='44410-RANGE TWP'!K32 -> 0 | AQ37: ='44410-RANGE TWP'!K33 -> 179151.71 | AT37: ='44410-RANGE TWP'!K36 -> 0
N38: ='44980-SOMERFORD TWP'!C4 -> 112084.59 | O38: ='44980-SOMERFORD TWP'!C5 -> 1091.54 | P38: ='44980-SOMERFORD TWP'!C6 -> 1726.38 | Q38: ='44980-SOMERFORD TWP'!C7 -> 114902.51 | R38: ='44980-SOMERFORD TWP'!C8 -> 524.81 | S38: ='44980-SOMERFORD TWP'!C9 -> 0 | T38: ='44980-SOMERFORD TWP'!C10 -> 115427.32 | W38: ='44980-SOMERFORD TWP'!C13 -> 12628.88 | X38: ='44980-SOMERFORD TWP'!C14 -> 0 | Y38: ='44980-SOMERFORD TWP'!C15 -> 2237.76 | Z38: ='44980-SOMERFORD TWP'!C16 -> 0 | AA38: ='44980-SOMERFORD TWP'!C17 -> 1431.09 | AB38: ='44980-SOMERFORD TWP'!C18 -> 0 | AC38: ='44980-SOMERFORD TWP'!C19 -> 16297.73 | AD38: ='44980-SOMERFORD TWP'!C20 -> 99129.59 | AG38: ='44980-SOMERFORD TWP'!C23 -> 2018.22 | AH38: ='44980-SOMERFORD TWP'!C24 -> 0 | AI38: ='44980-SOMERFORD TWP'!C25 -> 0 | AJ38: ='44980-SOMERFORD TWP'!C26 -> 0 | AK38: ='44980-SOMERFORD TWP'!C27 -> 0 | AL38: ='44980-SOMERFORD TWP'!C28 -> 2018.22 | AN38: ='44980-SOMERFORD TWP'!C30 -> 97111.37 | AO38: ='44980-SOMERFORD TWP'!C31 -> 0 | AP38: ='44980-SOMERFORD TWP'!C32 -> 0 | AQ38: ='44980-SOMERFORD TWP'!C33 -> 97111.37 | AT38: ='44980-SOMERFORD TWP'!C36 -> 0
N39: ='45171-STOKES TWP'!G4 -> 31042.95 | O39: ='45171-STOKES TWP'!G5 -> 113.96 | P39: ='45171-STOKES TWP'!G6 -> 18692.45 | Q39: ='45171-STOKES TWP'!G7 -> 49849.36 | R39: ='45171-STOKES TWP'!G8 -> 183.96 | S39: ='45171-STOKES TWP'!G9 -> 0 | T39: ='45171-STOKES TWP'!G10 -> 50033.32 | W39: ='45171-STOKES TWP'!G13 -> 3354.32 | X39: ='45171-STOKES TWP'!G14 -> 0 | Y39: ='45171-STOKES TWP'!G15 -> 163.18 | Z39: ='45171-STOKES TWP'!G16 -> 0 | AA39: ='45171-STOKES TWP'!G17 -> 369.72 | AB39: ='45171-STOKES TWP'!G18 -> 0 | AC39: ='45171-STOKES TWP'!G19 -> 3887.22 | AD39: ='45171-STOKES TWP'!G20 -> 46146.1 | AG39: ='45171-STOKES TWP'!G23 -> 874.79 | AH39: ='45171-STOKES TWP'!G24 -> 0 | AI39: ='45171-STOKES TWP'!G25 -> 0 | AJ39: ='45171-STOKES TWP'!G26 -> 0 | AK39: ='45171-STOKES TWP'!G27 -> 0 | AL39: ='45171-STOKES TWP'!G28 -> 874.79 | AN39: ='45171-STOKES TWP'!G30 -> 45271.31 | AO39: ='45171-STOKES TWP'!G31 -> 0 | AP39: ='45171-STOKES TWP'!G32 -> 0 | AQ39: ='45171-STOKES TWP'!G33 -> 45271.31 | AT39: ='45171-STOKES TWP'!G36 -> 0
N41: ='47141-UNION TWP'!C4 -> 37622.98 | O41: ='47141-UNION TWP'!C5 -> 1069.22 | P41: ='47141-UNION TWP'!C6 -> 6710.04 | Q41: ='47141-UNION TWP'!C7 -> 45402.24 | R41: ='47141-UNION TWP'!C8 -> 4476.54 | S41: ='47141-UNION TWP'!C9 -> 0 | T41: ='47141-UNION TWP'!C10 -> 49878.78 | W41: ='47141-UNION TWP'!C13 -> 4654.18 | X41: ='47141-UNION TWP'!C14 -> 0 | Y41: ='47141-UNION TWP'!C15 -> 561.19 | Z41: ='47141-UNION TWP'!C16 -> 0 | AA41: ='47141-UNION TWP'!C17 -> 648.38 | AB41: ='47141-UNION TWP'!C18 -> 0 | AC41: ='47141-UNION TWP'!C19 -> 5863.75 | AD41: ='47141-UNION TWP'!C20 -> 44015.03 | AG41: ='47141-UNION TWP'!C23 -> 872.14 | AH41: ='47141-UNION TWP'!C24 -> 0 | AI41: ='47141-UNION TWP'!C25 -> 0 | AJ41: ='47141-UNION TWP'!C26 -> 0 | AK41: ='47141-UNION TWP'!C27 -> 0 | AL41: ='47141-UNION TWP'!C28 -> 872.14 | AN41: ='47141-UNION TWP'!C30 -> 43142.89 | AO41: ='47141-UNION TWP'!C31 -> 71.39 | AP41: ='47141-UNION TWP'!C32 -> 0 | AQ41: ='47141-UNION TWP'!C33 -> 43071.5 | AT41: ='47141-UNION TWP'!C36 -> 0
N42: ='56720-PLAIN CITY CORP'!E4 -> 515783.95 | O42: ='56720-PLAIN CITY CORP'!E5 -> 47159.66 | P42: ='56720-PLAIN CITY CORP'!E6 -> 8480.36 | Q42: ='56720-PLAIN CITY CORP'!E7 -> 571423.97 | R42: ='56720-PLAIN CITY CORP'!E8 -> -4401.73 | S42: ='56720-PLAIN CITY CORP'!E9 -> 0 | T42: ='56720-PLAIN CITY CORP'!E10 -> 567022.24 | W42: ='56720-PLAIN CITY CORP'!E13 -> 16915.94 | X42: ='56720-PLAIN CITY CORP'!E14 -> 0 | Y42: ='56720-PLAIN CITY CORP'!E15 -> 3313.48 | Z42: ='56720-PLAIN CITY CORP'!E16 -> 0 | AA42: ='56720-PLAIN CITY CORP'!E17 -> 5139.39 | AB42: ='56720-PLAIN CITY CORP'!E18 -> 0 | AC42: ='56720-PLAIN CITY CORP'!E19 -> 25368.81 | AD42: ='56720-PLAIN CITY CORP'!E20 -> 541653.43 | AG42: ='56720-PLAIN CITY CORP'!E23 -> 9914.15 | AH42: ='56720-PLAIN CITY CORP'!E24 -> 0 | AI42: ='56720-PLAIN CITY CORP'!E25 -> 0 | AJ42: ='56720-PLAIN CITY CORP'!E26 -> 0 | AK42: ='56720-PLAIN CITY CORP'!E27 -> 0 | AL42: ='56720-PLAIN CITY CORP'!E28 -> 9914.15 | AN42: ='56720-PLAIN CITY CORP'!E30 -> 531739.28 | AO42: ='56720-PLAIN CITY CORP'!E31 -> 0 | AP42: ='56720-PLAIN CITY CORP'!E32 -> 0 | AQ42: ='56720-PLAIN CITY CORP'!E33 -> 531739.28 | AT42: ='56720-PLAIN CITY CORP'!E36 -> 0
...

Sheet 104905-9-1-1
A2: SOURCE OF RECEIPTS | B2: 2018 9-1-1 SYSTEM 1.00 | C2: TOTALS
A3: REAL PROPERTY
A4: Agr/Res | B4: 442409.89 | C4: =SUM(B4) -> 442409.89
A5: Com/Ind/Min | B5: 91241.33 | C5: =SUM(B5) -> 91241.33
A6: Public Utility | B6: 87480.86 | C6: =SUM(B6) -> 87480.86
A7: TOTAL CURRENT | B7: =SUM(B4:B6) -> 621132.08 | C7: =SUM(B7) -> 621132.08
A8: TOTAL DELINQUENT | B8: 29.95 | C8: =SUM(B8) -> 29.95
A9: LESS TIF COLLECTED | B9: 13411.48 | C9: =SUM(B9) -> 13411.48
A10: TOTAL COLLECTED | B10: =SUM(B7:B8) - B9 -> 607750.55 | C10: =SUM(B10) -> 607750.55
A12: REIMBURSEMENTS
A13: Non-Business Credit | B13: 0 | C13: =SUM(B13) -> 0
A14: Non-Business Credit Delinquent | B14: 0 | C14: =SUM(B14) -> 0
A15: Owner-Occupancy Credit | B15: 0 | C15: =SUM(B15) -> 0
A16: Owner-Occupancy Credit Delinquent | B16: 0 | C16: =SUM(B16) -> 0
A17: Homestead | B17: 8113.51 | C17: =SUM(B17) -> 8113.51
A18: Homestead Delinquent | B18: 0 | C18: =SUM(B18) -> 0
A19: TOTAL REIMBURSEMENTS | B19: =SUM(B13:B18) -> 8113.51 | C19: =SUM(B19) -> 8113.51
A20: TOTAL DISTRIBUTION | B20: =B10-B19 -> 599637.04 | C20: =SUM(B20) -> 599637.04
A22: DEDUCTIONS
A23: Aud. And Treas. Fees | B23: 10486.55 | C23: =SUM(B23) -> 10486.55
A24: DETAC Fee | B24: 0 | C24: =SUM(B24) -> 0
A25: Delinquent Advertising | B25: 0 | C25: =SUM(B25) -> 0
A26: Tax Collector Salary | B26: 0 | C26: =SUM(B26) -> 0
A27: Board of Election | B27: 0 | C27: =SUM(B27) -> 0
A28: TOTAL DEDUCTIONS | B28: =SUM(B23:B27) -> 10486.55 | C28: =SUM(B28) -> 10486.55
A30: BALANCES | B30: =B20-B28 -> 589150.49 | C30: =SUM(B30) -> 589150.49
A31: Less Refunds | B31: 118.63 | C31: =SUM(B31) -> 118.63
A32: Less Advances | B32: 0 | C32: =SUM(B32) -> 0
A33: NET DISTRIBUTION | B33: =B30-SUM(B31:B32) -> 589031.86 | C33: =SUM(B33) -> 589031.86
A35: OTHER
A36: Inflation Cap Credit | B36: 0 | C36: =SUM(B36) -> 0
B37: Please sign and return to this office, revised Code, Sec 321.34
B38: It is hereby certified that the above funds for retirement of bonds | F38: JENNIFER S. HUNTER | I38: COUNTY AUDITOR
B39: have been received and paid into the bond retirement fund
I40: DEPUTY AUDITOR
B41: SIGNATURE OF OFFICER

Sheet 104903-HEALTH SERVICES
A2: SOURCE OF RECEIPTS | B2: 2001 HEALTH SERVICES 1.00 | C2: 2020 HEALTH SERVICES 0.15 | D2: TOTALS
A3: REAL PROPERTY
A4: Agr/Res | B4: 248368.7 | C4: 66546.66 | D4: =SUM(B4:C4) -> 314915.36
A5: Com/Ind/Min | B5: 87890.83 | C5: 13730.52 | D5: =SUM(B5:C5) -> 101621.35
A6: Public Utility | B6: 87480.86 | C6: 13122.12 | D6: =SUM(B6:C6) -> 100602.98
A7: TOTAL CURRENT | B7: =SUM(B4:B6) -> 423740.39 | C7: =SUM(C4:C6) -> 93399.3 | D7: =SUM(B7:C7) -> 517139.69
A8: TOTAL DELINQUENT | B8: -3419.57 | C8: 7.43 | D8: =SUM(B8:C8) -> -3412.14
A9: LESS TIF COLLECTED | B9: 12918.97 | C9: 2018.24 | D9: =SUM(B9:C9) -> 14937.21
A10: TOTAL COLLECTED | B10: =SUM(B7:B8) - B9 -> 407401.85 | C10: =SUM(C7:C8) - C9 -> 91388.49 | D10: =SUM(B10:C10) -> 498790.34
A12: REIMBURSEMENTS
A13: Non-Business Credit | B13: 29407.86 | C13: 0 | D13: =SUM(B13:C13) -> 29407.86
A14: Non-Business Credit Delinquent | B14: -0.71 | C14: 0 | D14: =SUM(B14:C14) -> -0.71
A15: Owner-Occupancy Credit | B15: 4495.56 | C15: 0 | D15: =SUM(B15:C15) -> 4495.56
A16: Owner-Occupancy Credit Delinquent | B16: 0 | C16: 0 | D16: =SUM(B16:C16) -> 0
A17: Homestead | B17: 3893.52 | C17: 1226.4 | D17: =SUM(B17:C17) -> 5119.92
A18: Homestead Delinquent | B18: 0 | C18: 0 | D18: =SUM(B18:C18) -> 0
A19: TOTAL REIMBURSEMENTS | B19: =SUM(B13:B18) -> 37796.23 | C19: =SUM(C13:C18) -> 1226.4 | D19: =SUM(B19:C19) -> 39022.63
A20: TOTAL DISTRIBUTION | B20: =B10-B19 -> 369605.62 | C20: =C10-C19 -> 90162.09 | D20: =SUM(B20:C20) -> 459767.71
A22: DEDUCTIONS
A23: Aud. And Treas. Fees | B23: 6983.51 | C23: 1576.85 | D23: =SUM(B23:C23) -> 8560.36
A24: DETAC Fee | B24: 0 | C24: 0 | D24: =SUM(B24:C24) -> 0
A25: Delinquent Advertising | B25: 0 | C25: 0 | D25: =SUM(B25:C25) -> 0
A26: Tax Collector Salary | B26: 0 | C26: 0 | D26: =SUM(B26:C26) -> 0
A27: Board of Election | B27: 0 | C27: 0 | D27: =SUM(B27:C27) -> 0
A28: TOTAL DEDUCTIONS | B28: =SUM(B23:B27) -> 6983.51 | C28: =SUM(C23:C27) -> 1576.85 | D28: =SUM(B28:C28) -> 8560.36
A30: BALANCES | B30: =B20-B28 -> 362622.11 | C30: =C20-C28 -> 88585.24 | D30: =SUM(B30:C30) -> 451207.35
A31: Less Refunds | B31: 57.98 | C31: 17.91 | D31: =SUM(B31:C31) -> 75.89
A32: Less Advances | B32: 0 | C32: 0 | D32: =SUM(B32:C32) -> 0
A33: NET DISTRIBUTION | B33: =B30-SUM(B31:B32) -> 362564.13 | C33: =C30-SUM(C31:C32) -> 88567.33 | D33: =SUM(B33:C33) -> 451131.46
A35: OTHER
A36: Inflation Cap Credit | B36: 0 | C36: 0 | D36: =SUM(B36:C36) -> 0
B37: Please sign and return to this office, revised Code, Sec 321.34
B38: It is hereby certified that the above funds for retirement of bonds | F38: JENNIFER S. HUNTER | I38: COUNTY AUDITOR
B39: have been received and paid into the bond retirement fund
I40: DEPUTY AUDITOR
B41: SIGNATURE OF OFFICER

Sheet 104902-MAD CO BD OF DEVELOPMENT
A2: SOURCE OF RECEIPTS | B2: 1976 MRDD 0.10 | C2: 1976 MRDD 0.40 | D2: 1982 MRDD 1.20 | E2: 2005 DEVELOPMENTAL DISABILITIES 1.30 | F2: 2008 DEVELOPMENTAL DISABILITIES 1.00 | G2: TOTALS
A3: REAL PROPERTY
A4: Agr/Res | B4: 9282.3 | C4: 37130.39 | D4: 181448.55 | E4: 367452.62 | F4: 310705.96 | G4: =SUM(B4:F4) -> 906019.82
A5: Com/Ind/Min | B5: 3731.24 | C5: 14924.39 | D5: 73838.67 | E5: 118611.34 | F5: 91241.33 | G5: =SUM(B5:F5) -> 302346.97
A6: Public Utility | B6: 8748.12 | C6: 34992.39 | D6: 104977.11 | E6: 113725.1 | F6: 87480.86 | G6: =SUM(B6:F6) -> 349923.58
A7: TOTAL CURRENT | B7: =SUM(B4:B6) -> 21761.66 | C7: =SUM(C4:C6) -> 87047.17 | D7: =SUM(D4:D6) -> 360264.33 | E7: =SUM(E4:E6) -> 599789.06 | F7: =SUM(F4:F6) -> 489428.15 | G7: =SUM(B7:F7) -> 1558290.4
A8: TOTAL DELINQUENT | B8: -559.49 | C8: -2237.93 | D8: -5718.17 | E8: -3846.61 | F8: -2589.64 | G8: =SUM(B8:F8) -> -14951.84
A9: LESS TIF COLLECTED | B9: 548.44 | C9: 2193.73 | D9: 10853.69 | E9: 17434.87 | F9: 13411.48 | G9: =SUM(B9:F9) -> 44442.21
A10: TOTAL COLLECTED | B10: =SUM(B7:B8) - B9 -> 20653.73 | C10: =SUM(C7:C8) - C9 -> 82615.51 | D10: =SUM(D7:D8) - D9 -> 343692.47 | E10: =SUM(E7:E8) - E9 -> 578507.58 | F10: =SUM(F7:F8) - F9 -> 473427.03 | G10: =SUM(B10:F10) -> 1498896.3
A12: REIMBURSEMENTS
A13: Non-Business Credit | B13: 1096.5 | C13: 4394 | D13: 21484.96 | E13: 43514.53 | F13: 36790.57 | G13: =SUM(B13:F13) -> 107280.56
A14: Non-Business Credit Delinquent | B14: -0.03 | C14: -0.11 | D14: -0.52 | E14: -1.06 | F14: -0.89 | G14: =SUM(B14:F14) -> -2.61
A15: Owner-Occupancy Credit | B15: 168.2 | C15: 672.66 | D15: 3284.05 | E15: 6651.75 | F15: 5623.14 | G15: =SUM(B15:F15) -> 16399.8
A16: Owner-Occupancy Credit Delinquent | B16: 0 | C16: 0 | D16: 0 | E16: 0 | F16: 0 | G16: =SUM(B16:F16) -> 0
A17: Homestead | B17: 137.73 | C17: 591.11 | D17: 2846.77 | E17: 5779.09 | F17: 4869.57 | G17: =SUM(B17:F17) -> 14224.27
A18: Homestead Delinquent | B18: 0 | C18: 0 | D18: 0 | E18: 0 | F18: 0 | G18: =SUM(B18:F18) -> 0
A19: TOTAL REIMBURSEMENTS | B19: =SUM(B13:B18) -> 1402.4 | C19: =SUM(C13:C18) -> 5657.66 | D19: =SUM(D13:D18) -> 27615.26 | E19: =SUM(E13:E18) -> 55944.31 | F19: =SUM(F13:F18) -> 47282.39 | G19: =SUM(B19:F19) -> 137902.02
A20: TOTAL DISTRIBUTION | B20: =B10-B19 -> 19251.33 | C20: =C10-C19 -> 76957.85 | D20: =D10-D19 -> 316077.21 | E20: =E10-E19 -> 522563.27 | F20: =F10-F19 -> 426144.64 | G20: =SUM(B20:F20) -> 1360994.3
A22: DEDUCTIONS
A23: Aud. And Treas. Fees | B23: 347.09 | C23: 1388.62 | D23: 5841.65 | E23: 9933.36 | F23: 8138.09 | G23: =SUM(B23:F23) -> 25648.81
A24: DETAC Fee | B24: 0 | C24: 0 | D24: 0 | E24: 0 | F24: 0 | G24: =SUM(B24:F24) -> 0
A25: Delinquent Advertising | B25: 0 | C25: 0 | D25: 0 | E25: 0 | F25: 0 | G25: =SUM(B25:F25) -> 0
A26: Tax Collector Salary | B26: 0 | C26: 0 | D26: 0 | E26: 0 | F26: 0 | G26: =SUM(B26:F26) -> 0
A27: Board of Election | B27: 0 | C27: 0 | D27: 0 | E27: 0 | F27: 0 | G27: =SUM(B27:F27) -> 0
A28: TOTAL DEDUCTIONS | B28: =SUM(B23:B27) -> 347.09 | C28: =SUM(C23:C27) -> 1388.62 | D28: =SUM(D23:D27) -> 5841.65 | E28: =SUM(E23:E27) -> 9933.36 | F28: =SUM(F23:F27) -> 8138.09 | G28: =SUM(B28:F28) -> 25648.81
A30: BALANCES | B30: =B20-B28 -> 18904.24 | C30: =C20-C28 -> 75569.23 | D30: =D20-D28 -> 310235.56 | E30: =E20-E28 -> 512629.91 | F30: =F20-F28 -> 418006.55 | G30: =SUM(B30:F30) -> 1335345.5
A31: Less Refunds | B31: 2.12 | C31: 8.7 | D31: 42.37 | E31: 85.88 | F31: 72.53 | G31: =SUM(B31:F31) -> 211.6
A32: Less Advances | B32: 0 | C32: 0 | D32: 0 | E32: 0 | F32: 0 | G32: =SUM(B32:F32) -> 0
A33: NET DISTRIBUTION | B33: =B30-SUM(B31:B32) -> 18902.12 | C33: =C30-SUM(C31:C32) -> 75560.53 | D33: =D30-SUM(D31:D32) -> 310193.19 | E33: =E30-SUM(E31:E32) -> 512544.03 | F33: =F30-SUM(F31:F32) -> 417934.02 | G33: =SUM(B33:F33) -> 1335133.9
A35: OTHER
A36: Inflation Cap Credit | B36: 0 | C36: 0 | D36: 0 | E36: 0 | F36: 0 | G36: =SUM(B36:F36) -> 0
B37: Please sign and return to this office, revised Code, Sec 321.34
B38: It is hereby certified that the above funds for retirement of bonds | F38: JENNIFER S. HUNTER | I38: COUNTY AUDITOR
B39: have been received and paid into the bond retirement fund
I40: DEPUTY AUDITOR
B41: SIGNATURE OF OFFICER

Sheet 10490-MADISON COUNTY
A2: SOURCE OF RECEIPTS | B2: GENERAL FUND 3.00 | C2: TOTALS
A3: REAL PROPERTY
A4: Agr/Res | B4: 1930424.6 | C4: =SUM(B4) -> 1930424.6
A5: Com/Ind/Min | B5: 309742.93 | C5: =SUM(B5) -> 309742.93
A6: Public Utility | B6: 262442.57 | C6: =SUM(B6) -> 262442.57
A7: TOTAL CURRENT | B7: =SUM(B4:B6) -> 2502610.1 | C7: =SUM(B7) -> 2502610.1
A8: TOTAL DELINQUENT | B8: 5482.22 | C8: =SUM(B8) -> 5482.22
A9: LESS TIF COLLECTED | B9: 45529.44 | C9: =SUM(B9) -> 45529.44
A10: TOTAL COLLECTED | B10: =SUM(B7:B8) - B9 -> 2462562.9 | C10: =SUM(B10) -> 2462562.9
A12: REIMBURSEMENTS
A13: Non-Business Credit | B13: 228623.91 | C13: =SUM(B13) -> 228623.91
A14: Non-Business Credit Delinquent | B14: -5.56 | C14: =SUM(B14) -> -5.56
A15: Owner-Occupancy Credit | B15: 34940.28 | C15: =SUM(B15) -> 34940.28
A16: Owner-Occupancy Credit Delinquent | B16: 0 | C16: =SUM(B16) -> 0
A17: Homestead | B17: 30266.39 | C17: =SUM(B17) -> 30266.39
A18: Homestead Delinquent | B18: 0 | C18: =SUM(B18) -> 0
A19: TOTAL REIMBURSEMENTS | B19: =SUM(B13:B18) -> 293825.02 | C19: =SUM(B19) -> 293825.02
A20: TOTAL DISTRIBUTION | B20: =B10-B19 -> 2168737.9 | C20: =SUM(B20) -> 2168737.9
A22: DEDUCTIONS
A23: Aud. And Treas. Fees | B23: 42637.95 | C23: =SUM(B23) -> 42637.95
A24: DETAC Fee | B24: 0 | C24: =SUM(B24) -> 0
A25: Delinquent Advertising | B25: 0 | C25: =SUM(B25) -> 0
A26: Tax Collector Salary | B26: 0 | C26: =SUM(B26) -> 0
A27: Board of Election | B27: 0 | C27: =SUM(B27) -> 0
A28: TOTAL DEDUCTIONS | B28: =SUM(B23:B27) -> 42637.95 | C28: =SUM(B28) -> 42637.95
A30: BALANCES | B30: =B20-B28 -> 2126099.9 | C30: =SUM(B30) -> 2126099.9
A31: Less Refunds | B31: 450.97 | C31: =SUM(B31) -> 450.97
A32: Less Advances | B32: 0 | C32: =SUM(B32) -> 0
A33: NET DISTRIBUTION | B33: =B30-SUM(B31:B32) -> 2125648.9 | C33: =SUM(B33) -> 2125648.9
A35: OTHER
A36: Inflation Cap Credit | B36: 0 | C36: =SUM(B36) -> 0
B37: Please sign and return to this office, revised Code, Sec 321.34
B38: It is hereby certified that the above funds for retirement of bonds | F38: JENNIFER S. HUNTER | I38: COUNTY AUDITOR
B39: have been received and paid into the bond retirement fund
I40: DEPUTY AUDITOR
B41: SIGNATURE OF OFFICER

Sheet 104904-MENTAL HEALTH & RECOVERY
A2: SOURCE OF RECEIPTS | B2: 2004 MENTAL HEALTH & RECOVERY SVCS 0.50 | C2: TOTALS
A3: REAL PROPERTY
A4: Agr/Res | B4: 140741.64 | C4: =SUM(B4) -> 140741.64
A5: Com/Ind/Min | B5: 45620.77 | C5: =SUM(B5) -> 45620.77
A6: Public Utility | B6: 43740.37 | C6: =SUM(B6) -> 43740.37
A7: TOTAL CURRENT | B7: =SUM(B4:B6) -> 230102.78 | C7: =SUM(B7) -> 230102.78
A8: TOTAL DELINQUENT | B8: -1487.35 | C8: =SUM(B8) -> -1487.35
A9: LESS TIF COLLECTED | B9: 6705.79 | C9: =SUM(B9) -> 6705.79
A10: TOTAL COLLECTED | B10: =SUM(B7:B8) - B9 -> 221909.64 | C10: =SUM(B10) -> 221909.64
A12: REIMBURSEMENTS
A13: Non-Business Credit | B13: 16663.74 | C13: =SUM(B13) -> 16663.74
A14: Non-Business Credit Delinquent | B14: -0.41 | C14: =SUM(B14) -> -0.41
A15: Owner-Occupancy Credit | B15: 2547.61 | C15: =SUM(B15) -> 2547.61
A16: Owner-Occupancy Credit Delinquent | B16: 0 | C16: =SUM(B16) -> 0
A17: Homestead | B17: 2207.55 | C17: =SUM(B17) -> 2207.55
A18: Homestead Delinquent | B18: 0 | C18: =SUM(B18) -> 0
A19: TOTAL REIMBURSEMENTS | B19: =SUM(B13:B18) -> 21418.49 | C19: =SUM(B19) -> 21418.49
A20: TOTAL DISTRIBUTION | B20: =B10-B19 -> 200491.15 | C20: =SUM(B20) -> 200491.15
A22: DEDUCTIONS
A23: Aud. And Treas. Fees | B23: 3810.17 | C23: =SUM(B23) -> 3810.17
A24: DETAC Fee | B24: 0 | C24: =SUM(B24) -> 0
A25: Delinquent Advertising | B25: 0 | C25: =SUM(B25) -> 0
A26: Tax Collector Salary | B26: 0 | C26: =SUM(B26) -> 0
A27: Board of Election | B27: 0 | C27: =SUM(B27) -> 0
A28: TOTAL DEDUCTIONS | B28: =SUM(B23:B27) -> 3810.17 | C28: =SUM(B28) -> 3810.17
A30: BALANCES | B30: =B20-B28 -> 196680.98 | C30: =SUM(B30) -> 196680.98
A31: Less Refunds | B31: 32.83 | C31: =SUM(B31) -> 32.83
A32: Less Advances | B32: 0 | C32: =SUM(B32) -> 0
A33: NET DISTRIBUTION | B33: =B30-SUM(B31:B32) -> 196648.15 | C33: =SUM(B33) -> 196648.15
A35: OTHER
A36: Inflation Cap Credit | B36: 0 | C36: =SUM(B36) -> 0
B37: Please sign and return to this office, revised Code, Sec 321.34
B38: It is hereby certified that the above funds for retirement of bonds | F38: JENNIFER S. HUNTER | I38: COUNTY AUDITOR
B39: have been received and paid into the bond retirement fund
I40: DEPUTY AUDITOR
B41: SIGNATURE OF OFFICER

Sheet 104906-SENIOR CITIZENS
A2: SOURCE OF RECEIPTS | B2: 2006 SENIOR CITIZENS 0.80 | C2: TOTALS
A3: REAL PROPERTY
A4: Agr/Res | B4: 248381.75 | C4: =SUM(B4) -> 248381.75
A5: Com/Ind/Min | B5: 72991.57 | C5: =SUM(B5) -> 72991.57
A6: Public Utility | B6: 69984.59 | C6: =SUM(B6) -> 69984.59
A7: TOTAL CURRENT | B7: =SUM(B4:B6) -> 391357.91 | C7: =SUM(B7) -> 391357.91
A8: TOTAL DELINQUENT | B8: -2073.56 | C8: =SUM(B8) -> -2073.56
A9: LESS TIF COLLECTED | B9: 10729.16 | C9: =SUM(B9) -> 10729.16
A10: TOTAL COLLECTED | B10: =SUM(B7:B8) - B9 -> 378555.19 | C10: =SUM(B10) -> 378555.19
A12: REIMBURSEMENTS
A13: Non-Business Credit | B13: 29415.44 | C13: =SUM(B13) -> 29415.44
A14: Non-Business Credit Delinquent | B14: -0.71 | C14: =SUM(B14) -> -0.71
A15: Owner-Occupancy Credit | B15: 4496.33 | C15: =SUM(B15) -> 4496.33
A16: Owner-Occupancy Credit Delinquent | B16: 0 | C16: =SUM(B16) -> 0
A17: Homestead | B17: 3891.4 | C17: =SUM(B17) -> 3891.4
A18: Homestead Delinquent | B18: 0 | C18: =SUM(B18) -> 0
A19: TOTAL REIMBURSEMENTS | B19: =SUM(B13:B18) -> 37802.46 | C19: =SUM(B19) -> 37802.46
A20: TOTAL DISTRIBUTION | B20: =B10-B19 -> 340752.73 | C20: =SUM(B20) -> 340752.73
A22: DEDUCTIONS
A23: Aud. And Treas. Fees | B23: 6507.27 | C23: =SUM(B23) -> 6507.27
A24: DETAC Fee | B24: 0 | C24: =SUM(B24) -> 0
A25: Delinquent Advertising | B25: 0 | C25: =SUM(B25) -> 0
A26: Tax Collector Salary | B26: 0 | C26: =SUM(B26) -> 0
A27: Board of Election | B27: 0 | C27: =SUM(B27) -> 0
A28: TOTAL DEDUCTIONS | B28: =SUM(B23:B27) -> 6507.27 | C28: =SUM(B28) -> 6507.27
A30: BALANCES | B30: =B20-B28 -> 334245.46 | C30: =SUM(B30) -> 334245.46
A31: Less Refunds | B31: 57.99 | C31: =SUM(B31) -> 57.99
A32: Less Advances | B32: 0 | C32: =SUM(B32) -> 0
A33: NET DISTRIBUTION | B33: =B30-SUM(B31:B32) -> 334187.47 | C33: =SUM(B33) -> 334187.47
A35: OTHER
A36: Inflation Cap Credit | B36: 0 | C36: =SUM(B36) -> 0
B37: Please sign and return to this office, revised Code, Sec 321.34
B38: It is hereby certified that the above funds for retirement of bonds | F38: JENNIFER S. HUNTER | I38: COUNTY AUDITOR
B39: have been received and paid into the bond retirement fund
I40: DEPUTY AUDITOR
B41: SIGNATURE OF OFFICER

Sheet 104901-VETERANS RELIEF
A2: SOURCE OF RECEIPTS | B2: VETERANS RELIEF 0.50 | C2: TOTALS
A3: REAL PROPERTY
A4: Agr/Res | B4: 321750.35 | C4: =SUM(B4) -> 321750.35
A5: Com/Ind/Min | B5: 51624.57 | C5: =SUM(B5) -> 51624.57
A6: Public Utility | B6: 43740.37 | C6: =SUM(B6) -> 43740.37
A7: TOTAL CURRENT | B7: =SUM(B4:B6) -> 417115.29 | C7: =SUM(B7) -> 417115.29
A8: TOTAL DELINQUENT | B8: 913.78 | C8: =SUM(B8) -> 913.78
A9: LESS TIF COLLECTED | B9: 7588.29 | C9: =SUM(B9) -> 7588.29
A10: TOTAL COLLECTED | B10: =SUM(B7:B8) - B9 -> 410440.78 | C10: =SUM(B10) -> 410440.78
A12: REIMBURSEMENTS
A13: Non-Business Credit | B13: 38105.35 | C13: =SUM(B13) -> 38105.35
A14: Non-Business Credit Delinquent | B14: -0.93 | C14: =SUM(B14) -> -0.93
A15: Owner-Occupancy Credit | B15: 5823.54 | C15: =SUM(B15) -> 5823.54
A16: Owner-Occupancy Credit Delinquent | B16: 0 | C16: =SUM(B16) -> 0
A17: Homestead | B17: 5044.52 | C17: =SUM(B17) -> 5044.52
A18: Homestead Delinquent | B18: 0 | C18: =SUM(B18) -> 0
A19: TOTAL REIMBURSEMENTS | B19: =SUM(B13:B18) -> 48972.48 | C19: =SUM(B19) -> 48972.48
A20: TOTAL DISTRIBUTION | B20: =B10-B19 -> 361468.3 | C20: =SUM(B20) -> 361468.3
A22: DEDUCTIONS
A23: Aud. And Treas. Fees | B23: 7106.55 | C23: =SUM(B23) -> 7106.55
A24: DETAC Fee | B24: 0 | C24: =SUM(B24) -> 0
A25: Delinquent Advertising | B25: 0 | C25: =SUM(B25) -> 0
A26: Tax Collector Salary | B26: 0 | C26: =SUM(B26) -> 0
A27: Board of Election | B27: 0 | C27: =SUM(B27) -> 0
A28: TOTAL DEDUCTIONS | B28: =SUM(B23:B27) -> 7106.55 | C28: =SUM(B28) -> 7106.55
A30: BALANCES | B30: =B20-B28 -> 354361.75 | C30: =SUM(B30) -> 354361.75
A31: Less Refunds | B31: 75.18 | C31: =SUM(B31) -> 75.18
A32: Less Advances | B32: 0 | C32: =SUM(B32) -> 0
A33: NET DISTRIBUTION | B33: =B30-SUM(B31:B32) -> 354286.57 | C33: =SUM(B33) -> 354286.57
A35: OTHER
A36: Inflation Cap Credit | B36: 0 | C36: =SUM(B36) -> 0
B37: Please sign and return to this office, revised Code, Sec 321.34
B38: It is hereby certified that the above funds for retirement of bonds | F38: JENNIFER S. HUNTER | I38: COUNTY AUDITOR
B39: have been received and paid into the bond retirement fund
I40: DEPUTY AUDITOR
B41: SIGNATURE OF OFFICER

Sheet 21700-FAIRBANKS LSD
A2: SOURCE OF RECEIPTS | B2: GENERAL FUND 4.90 | C2: 1976 CURRENT EXPENSE 19.30 | D2: 1985 CURRENT EXPENSE 8.00 | E2: 2006 BOND ($11,460,066) 1.25 | F2: 2009 SUBSTITUTE RC 5705.199 4.10 | G2: TOTALS
A3: REAL PROPERTY
A4: Agr/Res | B4: 65599.68 | C4: 83311.43 | D4: 35535.11 | E4: 16734.7 | F4: 54889.6 | G4: =SUM(B4:F4) -> 256070.52
A5: Com/Ind/Min | B5: 27.25 | C5: 54.94 | D5: 29.03 | E5: 6.95 | F5: 22.81 | G5: =SUM(B5:F5) -> 140.98
A6: Public Utility | B6: 2638.85 | C6: 10393.99 | D6: 4308.35 | E6: 673.18 | F6: 2208.01 | G6: =SUM(B6:F6) -> 20222.38
A7: TOTAL CURRENT | B7: =SUM(B4:B6) -> 68265.78 | C7: =SUM(C4:C6) -> 93760.36 | D7: =SUM(D4:D6) -> 39872.49 | E7: =SUM(E4:E6) -> 17414.83 | F7: =SUM(F4:F6) -> 57120.42 | G7: =SUM(B7:F7) -> 276433.88
A8: TOTAL DELINQUENT | B8: 478 | C8: 644.71 | D8: 285.32 | E8: 121.93 | F8: 399.95 | G8: =SUM(B8:F8) -> 1929.91
A9: LESS TIF COLLECTED | B9: 0 | C9: 0 | D9: 0 | E9: 0 | F9: 0 | G9: =SUM(B9:F9) -> 0
